BEGIN:VCALENDAR
VERSION:2.0
PRODID:-//Cine Clube Cauim - ECPv6.2.8.1//NONSGML v1.0//EN
CALSCALE:GREGORIAN
METHOD:PUBLISH
X-ORIGINAL-URL:https://cauim.org
X-WR-CALDESC:Eventos para Cine Clube Cauim
REFRESH-INTERVAL;VALUE=DURATION:PT1H
X-Robots-Tag:noindex
X-PUBLISHED-TTL:PT1H
BEGIN:VTIMEZONE
TZID:America/Sao_Paulo
BEGIN:STANDARD
TZOFFSETFROM:-0300
TZOFFSETTO:-0300
TZNAME:-03
DTSTART:20250101T000000
END:STANDARD
END:VTIMEZONE
BEGIN:VEVENT
DTSTART;TZID=America/Sao_Paulo:20251030T170000
DTEND;TZID=America/Sao_Paulo:20251030T170000
DTSTAMP:20260424T121054
CREATED:20251025T141648Z
LAST-MODIFIED:20251025T141648Z
UID:10019-1761843600-1761843600@cauim.org
SUMMARY:Cinema & Literatura – Sessão 17h
DESCRIPTION:A Aranha (2003)Conto de Orígenes Lessa lido por Maria Luísa Mendonça.\nA Caçada (2003)\nConto de Lygia Fagundes Telles lido por Antônio Abujamra.\nA Caolha (2003)\nConto de Júlia Lopes de Almeida lido por Marília Pêra.
URL:https://cauim.org/evento/cinema-literatura-sessao-17h-9/
LOCATION:São Paulo
CATEGORIES:Cinema & Literatura
END:VEVENT
BEGIN:VEVENT
DTSTART;TZID=America/Sao_Paulo:20251030T183000
DTEND;TZID=America/Sao_Paulo:20251030T183000
DTSTAMP:20260424T121054
CREATED:20251025T141645Z
LAST-MODIFIED:20251025T141645Z
UID:10014-1761849000-1761849000@cauim.org
SUMMARY:Cinema & Cidadania – Sessão 18h30
DESCRIPTION:Distraída para a Morte (2001)Três adolescentes negros perambulam por vielas\, ruas e avenidas da metrópole. Unidas por uma brincadeira de vida ou morte\, são três experiências\, três formas distintas de perceber o mundo.\nDireção: Jefferson De\nElenco: Cynthia Raquel\, Robson Nunes e Fabinho Nepo\nRaz (2010)\nEnquanto o mundo à sua volta se movimenta\, Raz\, um menino que canta Rap nos vagões do metrô do Rio de Janeiro\, tenta trilhar seu próprio caminho pelas ruas da cidade.\nDireção: André Lavaquier\nElenco: Arthur Bispo\, Jahir Soares\, Rafael D’Avila\, Robson Rozza e Nely Coelho.
URL:https://cauim.org/evento/cinema-cidadania-sessao-18h30-9/
LOCATION:São Paulo
CATEGORIES:Cinema & Cidadania
END:VEVENT
BEGIN:VEVENT
DTSTART;TZID=America/Sao_Paulo:20251031T170000
DTEND;TZID=America/Sao_Paulo:20251031T170000
DTSTAMP:20260424T121054
CREATED:20251025T141648Z
LAST-MODIFIED:20251025T141648Z
UID:10020-1761930000-1761930000@cauim.org
SUMMARY:Cinema & Literatura – Sessão 17h
DESCRIPTION:A Conquista (2004)Conto de Ribeiro Couto lido por Marília Pêra.\nA Invasão (2004)\nConto de Leandro Konder lido por Lázaro Ramos.\nA Menina (2004)\nConto de Natércia Campos lido por Beatriz Segall.
URL:https://cauim.org/evento/cinema-literatura-sessao-17h-10/
LOCATION:São Paulo
CATEGORIES:Cinema & Literatura
END:VEVENT
BEGIN:VEVENT
DTSTART;TZID=America/Sao_Paulo:20251031T183000
DTEND;TZID=America/Sao_Paulo:20251031T183000
DTSTAMP:20260424T121054
CREATED:20251025T141646Z
LAST-MODIFIED:20251025T141646Z
UID:10015-1761935400-1761935400@cauim.org
SUMMARY:Cinema & Cidadania – Sessão 18h30
DESCRIPTION:10 Centavos (2001)Um dia na vida de um garoto que mora num subúrbio de Salvador e trabalha como guardador de carros no centro histórico da capital baiana.\nDireção: Cesar Fernando de Oliveira\nElenco: Fernando Fulco\, Frank Magalhães\, Jorge Antônio da Silva Junior\, Cesar Carvalho\, Márcio Santana\, Narcival Rubens\, Paulo Prazeres\, Stella Voutta\nSão Paulo Railway (2010)\nNas férias\, três adolescentes entediados decidem subir em um trem para ir até a praia\, percorrendo o antigo caminho da São Paulo Railway\, que liga Jundiaí a Santos. Durante a viagem-aventura\, eles descobrem o significado da amizade.\nDireção: Marcelo Müller\nElenco: Eduardo Bernardes\, Rômulo Oliveira e Pedro Mingotti.
URL:https://cauim.org/evento/cinema-cidadania-sessao-18h30-10/
LOCATION:São Paulo
CATEGORIES:Cinema & Cidadania
END:VEVENT
BEGIN:VEVENT
DTSTART;TZID=America/Sao_Paulo:20251110T170000
DTEND;TZID=America/Sao_Paulo:20251110T170000
DTSTAMP:20260424T121054
CREATED:20251108T221610Z
LAST-MODIFIED:20251108T221610Z
UID:10277-1762794000-1762794000@cauim.org
SUMMARY:Cinema & Literatura – Sessão 17h
DESCRIPTION:
URL:https://cauim.org/evento/cinema-literatura-sessao-17h-11/
LOCATION:São Paulo
CATEGORIES:Cinema & Literatura
END:VEVENT
BEGIN:VEVENT
DTSTART;TZID=America/Sao_Paulo:20251111T170000
DTEND;TZID=America/Sao_Paulo:20251111T170000
DTSTAMP:20260424T121054
CREATED:20251108T221610Z
LAST-MODIFIED:20251108T221610Z
UID:10278-1762880400-1762880400@cauim.org
SUMMARY:Cinema & Literatura – Sessão 17h
DESCRIPTION:
URL:https://cauim.org/evento/cinema-literatura-sessao-17h-12/
LOCATION:São Paulo
CATEGORIES:Cinema & Literatura
END:VEVENT
BEGIN:VEVENT
DTSTART;TZID=America/Sao_Paulo:20251111T183000
DTEND;TZID=America/Sao_Paulo:20251111T183000
DTSTAMP:20260424T121054
CREATED:20251108T221550Z
LAST-MODIFIED:20251108T221550Z
UID:10268-1762885800-1762885800@cauim.org
SUMMARY:Valdir e Rute (1997)
DESCRIPTION:
URL:https://cauim.org/evento/valdir-e-rute-1997/
LOCATION:São Paulo
CATEGORIES:Cinema & Cidadania
END:VEVENT
BEGIN:VEVENT
DTSTART;TZID=America/Sao_Paulo:20251112T170000
DTEND;TZID=America/Sao_Paulo:20251112T170000
DTSTAMP:20260424T121054
CREATED:20251108T221610Z
LAST-MODIFIED:20251108T221610Z
UID:10279-1762966800-1762966800@cauim.org
SUMMARY:Cinema & Literatura – Sessão 17h
DESCRIPTION:
URL:https://cauim.org/evento/cinema-literatura-sessao-17h-13/
LOCATION:São Paulo
CATEGORIES:Cinema & Literatura
END:VEVENT
BEGIN:VEVENT
DTSTART;TZID=America/Sao_Paulo:20251112T183000
DTEND;TZID=America/Sao_Paulo:20251112T183000
DTSTAMP:20260424T121054
CREATED:20251108T221552Z
LAST-MODIFIED:20251108T221552Z
UID:10270-1762972200-1762972200@cauim.org
SUMMARY:Natureza Morta (1995)
DESCRIPTION:
URL:https://cauim.org/evento/natureza-morta-1995/
LOCATION:São Paulo
CATEGORIES:Cinema & Cidadania
END:VEVENT
BEGIN:VEVENT
DTSTART;TZID=America/Sao_Paulo:20251112T183000
DTEND;TZID=America/Sao_Paulo:20251112T183000
DTSTAMP:20260424T121054
CREATED:20251108T221553Z
LAST-MODIFIED:20251108T221553Z
UID:10271-1762972200-1762972200@cauim.org
SUMMARY:Quem Matou Elias Zi? (1986)
DESCRIPTION:
URL:https://cauim.org/evento/quem-matou-elias-zi-1986/
LOCATION:São Paulo
CATEGORIES:Cinema & Cidadania
END:VEVENT
BEGIN:VEVENT
DTSTART;TZID=America/Sao_Paulo:20251112T193000
DTEND;TZID=America/Sao_Paulo:20251112T193000
DTSTAMP:20260424T121054
CREATED:20251108T221558Z
LAST-MODIFIED:20251108T221558Z
UID:10272-1762975800-1762975800@cauim.org
SUMMARY:O Som ao Redor (2012)
DESCRIPTION:
URL:https://cauim.org/evento/o-som-ao-redor-2012/
LOCATION:São Paulo
CATEGORIES:Cinema & Cidadania
END:VEVENT
BEGIN:VEVENT
DTSTART;TZID=America/Sao_Paulo:20251113T170000
DTEND;TZID=America/Sao_Paulo:20251113T170000
DTSTAMP:20260424T121054
CREATED:20251108T221610Z
LAST-MODIFIED:20251108T221610Z
UID:10280-1763053200-1763053200@cauim.org
SUMMARY:Cinema & Literatura – Sessão 17h
DESCRIPTION:
URL:https://cauim.org/evento/cinema-literatura-sessao-17h-14/
LOCATION:São Paulo
CATEGORIES:Cinema & Literatura
END:VEVENT
BEGIN:VEVENT
DTSTART;TZID=America/Sao_Paulo:20251113T183000
DTEND;TZID=America/Sao_Paulo:20251113T183000
DTSTAMP:20260424T121054
CREATED:20251108T221558Z
LAST-MODIFIED:20251108T221558Z
UID:10273-1763058600-1763058600@cauim.org
SUMMARY:Rapsódia do Absurdo (1995)
DESCRIPTION:
URL:https://cauim.org/evento/rapsodia-do-absurdo-1995/
LOCATION:São Paulo
CATEGORIES:Cinema & Cidadania
END:VEVENT
BEGIN:VEVENT
DTSTART;TZID=America/Sao_Paulo:20251113T183000
DTEND;TZID=America/Sao_Paulo:20251113T183000
DTSTAMP:20260424T121054
CREATED:20251108T221558Z
LAST-MODIFIED:20251108T221558Z
UID:10274-1763058600-1763058600@cauim.org
SUMMARY:Nada a Declarar (2003)
DESCRIPTION:
URL:https://cauim.org/evento/nada-a-declarar-2003/
LOCATION:São Paulo
CATEGORIES:Cinema & Cidadania
END:VEVENT
BEGIN:VEVENT
DTSTART;TZID=America/Sao_Paulo:20251114T170000
DTEND;TZID=America/Sao_Paulo:20251114T170000
DTSTAMP:20260424T121054
CREATED:20251108T221611Z
LAST-MODIFIED:20251108T221611Z
UID:10281-1763139600-1763139600@cauim.org
SUMMARY:Cinema & Literatura – Sessão 17h
DESCRIPTION:
URL:https://cauim.org/evento/cinema-literatura-sessao-17h-15/
LOCATION:São Paulo
CATEGORIES:Cinema & Literatura
END:VEVENT
BEGIN:VEVENT
DTSTART;TZID=America/Sao_Paulo:20251114T183000
DTEND;TZID=America/Sao_Paulo:20251114T183000
DTSTAMP:20260424T121054
CREATED:20251108T221558Z
LAST-MODIFIED:20251108T221558Z
UID:10275-1763145000-1763145000@cauim.org
SUMMARY:Césio137 – O Brilho da Morte (2003)
DESCRIPTION:
URL:https://cauim.org/evento/cesio137-o-brilho-da-morte-2003/
LOCATION:São Paulo
CATEGORIES:Cinema & Cidadania
END:VEVENT
BEGIN:VEVENT
DTSTART;TZID=America/Sao_Paulo:20251114T183000
DTEND;TZID=America/Sao_Paulo:20251114T183000
DTSTAMP:20260424T121055
CREATED:20251108T221558Z
LAST-MODIFIED:20251108T221558Z
UID:10276-1763145000-1763145000@cauim.org
SUMMARY:Restos (2003)
DESCRIPTION:
URL:https://cauim.org/evento/restos-2003/
LOCATION:São Paulo
CATEGORIES:Cinema & Cidadania
END:VEVENT
BEGIN:VEVENT
DTSTART;VALUE=DATE:20251115
DTEND;VALUE=DATE:20251116
DTSTAMP:20260424T121055
CREATED:20251025T144003Z
LAST-MODIFIED:20251025T144008Z
UID:10024-1763164800-1763251199@cauim.org
SUMMARY:Feira de Vinil - Ribeirão Preto
DESCRIPTION:Feira de Vinil – Ribeirão Preto
URL:https://cauim.org/evento/feira-de-vinil-ribeirao-preto/
LOCATION:Cineclube Cauim\, R. Olavo Bilac\, 135\, Vila Seixas\, Ribeirão Preto - SP\, São Paulo\, 14020-020\, Brasil
CATEGORIES:outros
ATTACH;FMTTYPE=image/png:https://cauim.org/wp-content/uploads/2025/10/Screenshot-2025-10-25-at-11.33.27.png
END:VEVENT
BEGIN:VEVENT
DTSTART;TZID=America/Sao_Paulo:20251119T000000
DTEND;TZID=America/Sao_Paulo:20251119T000000
DTSTAMP:20260424T121055
CREATED:20251009T140931Z
LAST-MODIFIED:20251009T140931Z
UID:9801-1763510400-1763510400@cauim.org
SUMMARY:VIII Encontro Brasileiro de Coro Cênico – Mostra de Cinema e Música
DESCRIPTION:Mostra de Cinema e Música – sessões durante todo o dia.
URL:https://cauim.org/evento/viii-encontro-brasileiro-de-coro-cenico-mostra-de-cinema-e-musica/
LOCATION:São Paulo
CATEGORIES:Filmes
END:VEVENT
BEGIN:VEVENT
DTSTART;TZID=America/Sao_Paulo:20251119T203000
DTEND;TZID=America/Sao_Paulo:20251119T203000
DTSTAMP:20260424T121055
CREATED:20251009T140932Z
LAST-MODIFIED:20251009T140932Z
UID:9802-1763584200-1763584200@cauim.org
SUMMARY:Ensaio Aberto – Coro Cênico Bossa Nossa
DESCRIPTION:Ensaio aberto do Coro Cênico Bossa Nossa.
URL:https://cauim.org/evento/ensaio-aberto-coro-cenico-bossa-nossa/
LOCATION:São Paulo
CATEGORIES:Ensaios
END:VEVENT
BEGIN:VEVENT
DTSTART;TZID=America/Sao_Paulo:20251120T000000
DTEND;TZID=America/Sao_Paulo:20251120T000000
DTSTAMP:20260424T121055
CREATED:20251009T140932Z
LAST-MODIFIED:20251009T140932Z
UID:9803-1763596800-1763596800@cauim.org
SUMMARY:VIII Encontro – Mostra de Cinema e Música
DESCRIPTION:Mostra de Cinema e Música – sessões durante o dia.
URL:https://cauim.org/evento/viii-encontro-mostra-de-cinema-e-musica/
LOCATION:São Paulo
CATEGORIES:Filmes
END:VEVENT
BEGIN:VEVENT
DTSTART;TZID=America/Sao_Paulo:20251120T100000
DTEND;TZID=America/Sao_Paulo:20251120T100000
DTSTAMP:20260424T121055
CREATED:20251009T140933Z
LAST-MODIFIED:20251009T140933Z
UID:9804-1763632800-1763632800@cauim.org
SUMMARY:Workshop – Preparação Vocal (Maestro Prata)
DESCRIPTION:Workshop de preparação vocal com Maestro Prata.
URL:https://cauim.org/evento/workshop-preparacao-vocal-maestro-prata/
LOCATION:São Paulo
CATEGORIES:Ensaios
END:VEVENT
BEGIN:VEVENT
DTSTART;TZID=America/Sao_Paulo:20251120T150000
DTEND;TZID=America/Sao_Paulo:20251120T150000
DTSTAMP:20260424T121055
CREATED:20251009T140934Z
LAST-MODIFIED:20251009T140934Z
UID:9805-1763650800-1763650800@cauim.org
SUMMARY:Ensaio – Coral Unisul de Tubarão
DESCRIPTION:Ensaio do grupo Coral Unisul de Tubarão.
URL:https://cauim.org/evento/ensaio-coral-unisul-de-tubarao/
LOCATION:São Paulo
CATEGORIES:Ensaios
END:VEVENT
BEGIN:VEVENT
DTSTART;TZID=America/Sao_Paulo:20251120T203000
DTEND;TZID=America/Sao_Paulo:20251120T203000
DTSTAMP:20260424T121055
CREATED:20251009T140935Z
LAST-MODIFIED:20251009T140935Z
UID:9806-1763670600-1763670600@cauim.org
SUMMARY:Abertura Oficial do VIII Encontro
DESCRIPTION:Abertura oficial do VIII Encontro Brasileiro de Coro Cênico.
URL:https://cauim.org/evento/abertura-oficial-do-viii-encontro/
LOCATION:São Paulo
CATEGORIES:Encontros com a Cidadania
END:VEVENT
BEGIN:VEVENT
DTSTART;TZID=America/Sao_Paulo:20251120T204500
DTEND;TZID=America/Sao_Paulo:20251120T204500
DTSTAMP:20260424T121055
CREATED:20251009T140935Z
LAST-MODIFIED:20251009T140935Z
UID:9807-1763671500-1763671500@cauim.org
SUMMARY:Apresentação – Coral Unisul de Tubarão
DESCRIPTION:Apresentação do Coral Unisul de Tubarão.
URL:https://cauim.org/evento/apresentacao-coral-unisul-de-tubarao/
LOCATION:São Paulo
CATEGORIES:Ensaios
END:VEVENT
BEGIN:VEVENT
DTSTART;TZID=America/Sao_Paulo:20251121T000000
DTEND;TZID=America/Sao_Paulo:20251121T000000
DTSTAMP:20260424T121055
CREATED:20251009T140936Z
LAST-MODIFIED:20251009T140936Z
UID:9808-1763683200-1763683200@cauim.org
SUMMARY:VIII Encontro – Mostra de Cinema e Música
DESCRIPTION:Mostra de Cinema e Música – sessões durante o dia.
URL:https://cauim.org/evento/viii-encontro-mostra-de-cinema-e-musica-2/
LOCATION:São Paulo
CATEGORIES:Filmes
END:VEVENT
BEGIN:VEVENT
DTSTART;TZID=America/Sao_Paulo:20251121T100000
DTEND;TZID=America/Sao_Paulo:20251121T100000
DTSTAMP:20260424T121055
CREATED:20251009T140936Z
LAST-MODIFIED:20251009T140936Z
UID:9809-1763719200-1763719200@cauim.org
SUMMARY:Workshop – Debate entre Dirigentes de Coros Cênicos
DESCRIPTION:Debate entre dirigentes de Coros Cênicos.
URL:https://cauim.org/evento/workshop-debate-entre-dirigentes-de-coros-cenicos/
LOCATION:São Paulo
CATEGORIES:Encontros com a Cidadania
END:VEVENT
BEGIN:VEVENT
DTSTART;TZID=America/Sao_Paulo:20251121T150000
DTEND;TZID=America/Sao_Paulo:20251121T150000
DTSTAMP:20260424T121055
CREATED:20251009T140936Z
LAST-MODIFIED:20251009T140936Z
UID:9810-1763737200-1763737200@cauim.org
SUMMARY:Ensaio – Coro Cênico Bossa Nossa
DESCRIPTION:Ensaio do Coro Cênico Bossa Nossa.
URL:https://cauim.org/evento/ensaio-coro-cenico-bossa-nossa/
LOCATION:São Paulo
CATEGORIES:Ensaios
END:VEVENT
BEGIN:VEVENT
DTSTART;TZID=America/Sao_Paulo:20251121T203000
DTEND;TZID=America/Sao_Paulo:20251121T203000
DTSTAMP:20260424T121055
CREATED:20251009T140951Z
LAST-MODIFIED:20251009T140951Z
UID:9811-1763757000-1763757000@cauim.org
SUMMARY:Apresentação – Coro Cênico Bossa Nossa
DESCRIPTION:Apresentação do Coro Cênico Bossa Nossa.
URL:https://cauim.org/evento/apresentacao-coro-cenico-bossa-nossa/
LOCATION:São Paulo
CATEGORIES:Ensaios
END:VEVENT
BEGIN:VEVENT
DTSTART;TZID=America/Sao_Paulo:20251122T000000
DTEND;TZID=America/Sao_Paulo:20251122T000000
DTSTAMP:20260424T121055
CREATED:20251009T140951Z
LAST-MODIFIED:20251009T140951Z
UID:9812-1763769600-1763769600@cauim.org
SUMMARY:VIII Encontro – Mostra de Cinema e Música
DESCRIPTION:Mostra de Cinema e Música – sessões durante o dia.
URL:https://cauim.org/evento/viii-encontro-mostra-de-cinema-e-musica-3/
LOCATION:São Paulo
CATEGORIES:Filmes
END:VEVENT
END:VCALENDAR