BEGIN:VCALENDAR
VERSION:2.0
PRODID:-//Cine Clube Cauim - ECPv6.2.8.1//NONSGML v1.0//EN
CALSCALE:GREGORIAN
METHOD:PUBLISH
X-ORIGINAL-URL:https://cauim.org
X-WR-CALDESC:Eventos para Cine Clube Cauim
REFRESH-INTERVAL;VALUE=DURATION:PT1H
X-Robots-Tag:noindex
X-PUBLISHED-TTL:PT1H
BEGIN:VTIMEZONE
TZID:America/Sao_Paulo
BEGIN:STANDARD
TZOFFSETFROM:-0300
TZOFFSETTO:-0300
TZNAME:-03
DTSTART:20250101T000000
END:STANDARD
END:VTIMEZONE
BEGIN:VEVENT
DTSTART;TZID=America/Sao_Paulo:20251212T163000
DTEND;TZID=America/Sao_Paulo:20251212T163000
DTSTAMP:20260419T102043
CREATED:20251114T014535Z
LAST-MODIFIED:20251114T014535Z
UID:10710-1765557000-1765557000@cauim.org
SUMMARY:Voz de Aluguel (Le Répondeur 2025)
DESCRIPTION:Direcao: Fabienne GodetElenco: Salif Cisse / Denis Podalydes / Aure AtikaResumo: Baptiste imitador talentoso torna se atendendor de chamadas de um romancista em busca de silencio para escrever.
URL:https://cauim.org/evento/voz-de-aluguel-le-repondeur-2025-3/
LOCATION:Cineclube Cauim\, R. Olavo Bilac\, 135\, Vila Seixas\, Ribeirão Preto - SP\, São Paulo\, 14020-020\, Brasil
CATEGORIES:Festival de Cinema Francês,Filmes
END:VEVENT
BEGIN:VEVENT
DTSTART;TZID=America/Sao_Paulo:20251212T190000
DTEND;TZID=America/Sao_Paulo:20251212T190000
DTSTAMP:20260419T102043
CREATED:20251114T014735Z
LAST-MODIFIED:20251114T014735Z
UID:10711-1765566000-1765566000@cauim.org
SUMMARY:Vizinhos Barbaros (Les Barbares 2025)
DESCRIPTION:Direcao: Julie DelpyElenco: Julie Delpy / Sandrine Kiberlain / Laurent LafitteResumo: Pequena comunidade que decide acolher refugiados se divide quando descobre que eles nao sao quem esperavam.
URL:https://cauim.org/evento/vizinhos-barbaros-les-barbares-2025-3/
LOCATION:Cineclube Cauim\, R. Olavo Bilac\, 135\, Vila Seixas\, Ribeirão Preto - SP\, São Paulo\, 14020-020\, Brasil
CATEGORIES:Festival de Cinema Francês,Filmes
END:VEVENT
BEGIN:VEVENT
DTSTART;TZID=America/Sao_Paulo:20251212T210000
DTEND;TZID=America/Sao_Paulo:20251212T210000
DTSTAMP:20260419T102043
CREATED:20251114T014735Z
LAST-MODIFIED:20251114T014735Z
UID:10712-1765573200-1765573200@cauim.org
SUMMARY:Era Uma Vez Minha Mae (Ma Mere Deus et Sylvie Vartan 2025)
DESCRIPTION:Direcao: Ken ScottElenco: Leila Bekhti / Jonathan Cohen / Sylvie VartanResumo: Esther promete ao filho com pe torto uma vida plena e luta a vida inteira para cumprir essa promessa.
URL:https://cauim.org/evento/era-uma-vez-minha-mae-ma-mere-deus-et-sylvie-vartan-2025/
LOCATION:Cineclube Cauim\, R. Olavo Bilac\, 135\, Vila Seixas\, Ribeirão Preto - SP\, São Paulo\, 14020-020\, Brasil
CATEGORIES:Festival de Cinema Francês,Filmes
END:VEVENT
END:VCALENDAR