BEGIN:VCALENDAR
VERSION:2.0
PRODID:-//Cine Clube Cauim - ECPv6.2.8.1//NONSGML v1.0//EN
CALSCALE:GREGORIAN
METHOD:PUBLISH
X-ORIGINAL-URL:https://cauim.org
X-WR-CALDESC:Eventos para Cine Clube Cauim
REFRESH-INTERVAL;VALUE=DURATION:PT1H
X-Robots-Tag:noindex
X-PUBLISHED-TTL:PT1H
BEGIN:VTIMEZONE
TZID:America/Sao_Paulo
BEGIN:STANDARD
TZOFFSETFROM:-0300
TZOFFSETTO:-0300
TZNAME:-03
DTSTART:20250101T000000
END:STANDARD
END:VTIMEZONE
BEGIN:VEVENT
DTSTART;TZID=America/Sao_Paulo:20251211T163000
DTEND;TZID=America/Sao_Paulo:20251211T163000
DTSTAMP:20260419T102244
CREATED:20251114T014535Z
LAST-MODIFIED:20251114T014535Z
UID:10707-1765470600-1765470600@cauim.org
SUMMARY:Fanon (Fanon 2025)
DESCRIPTION:Direcao: Jean Claude BarnyElenco: Alexandre Bouyer / Deborah Francois / Stanislas MerharResumo: Biografia de Frantz Fanon medico psiquiatra em hospital argelino em meio a guerra e a luta anticolonial.
URL:https://cauim.org/evento/fanon-fanon-2025-2/
LOCATION:Cineclube Cauim\, R. Olavo Bilac\, 135\, Vila Seixas\, Ribeirão Preto - SP\, São Paulo\, 14020-020\, Brasil
CATEGORIES:Festival de Cinema Francês,Filmes
END:VEVENT
BEGIN:VEVENT
DTSTART;TZID=America/Sao_Paulo:20251211T190000
DTEND;TZID=America/Sao_Paulo:20251211T190000
DTSTAMP:20260419T102244
CREATED:20251114T014535Z
LAST-MODIFIED:20251114T014535Z
UID:10708-1765479600-1765479600@cauim.org
SUMMARY:Maos a Obra (A Pied d Oeuvre 2025)
DESCRIPTION:Direcao: Valerie DonzelliElenco: Bastien Bouillon / Virginie Ledoyen / Marie RiviereResumo: Fotografo bem sucedido abandona a carreira para escrever e se confronta com a pobreza e com novos valores.
URL:https://cauim.org/evento/maos-a-obra-a-pied-d-oeuvre-2025-4/
LOCATION:Cineclube Cauim\, R. Olavo Bilac\, 135\, Vila Seixas\, Ribeirão Preto - SP\, São Paulo\, 14020-020\, Brasil
CATEGORIES:Festival de Cinema Francês,Filmes
END:VEVENT
BEGIN:VEVENT
DTSTART;TZID=America/Sao_Paulo:20251211T210000
DTEND;TZID=America/Sao_Paulo:20251211T210000
DTSTAMP:20260419T102244
CREATED:20251114T014535Z
LAST-MODIFIED:20251114T014535Z
UID:10709-1765486800-1765486800@cauim.org
SUMMARY:Mercato Os Donos da Bola (Mercato 2025)
DESCRIPTION:Direcao: Tristan SeguelaElenco: Jamel Debbouze / Monia Chokri / Hakim JemiliResumo: Empresario de jogadores tem poucos dias para fechar negocios e salvar a propria pele no mercado do futebol.
URL:https://cauim.org/evento/mercato-os-donos-da-bola-mercato-2025-3/
LOCATION:Cineclube Cauim\, R. Olavo Bilac\, 135\, Vila Seixas\, Ribeirão Preto - SP\, São Paulo\, 14020-020\, Brasil
CATEGORIES:Festival de Cinema Francês,Filmes
END:VEVENT
END:VCALENDAR