BEGIN:VCALENDAR
VERSION:2.0
PRODID:-//Cine Clube Cauim - ECPv6.2.8.1//NONSGML v1.0//EN
CALSCALE:GREGORIAN
METHOD:PUBLISH
X-WR-CALNAME:Cine Clube Cauim
X-ORIGINAL-URL:https://cauim.org
X-WR-CALDESC:Eventos para Cine Clube Cauim
REFRESH-INTERVAL;VALUE=DURATION:PT1H
X-Robots-Tag:noindex
X-PUBLISHED-TTL:PT1H
BEGIN:VTIMEZONE
TZID:America/Sao_Paulo
BEGIN:STANDARD
TZOFFSETFROM:-0300
TZOFFSETTO:-0300
TZNAME:-03
DTSTART:20250101T000000
END:STANDARD
END:VTIMEZONE
BEGIN:VEVENT
DTSTART;TZID=America/Sao_Paulo:20251207T150000
DTEND;TZID=America/Sao_Paulo:20251207T150000
DTSTAMP:20260419T161521
CREATED:20251114T014327Z
LAST-MODIFIED:20251114T014327Z
UID:10695-1765119600-1765119600@cauim.org
SUMMARY:Maya Me De Um Titulo (Maya Donne Moi Un Titre 2025)
DESCRIPTION:Direcao: Michel GondryElenco: Vozes de Pierre Niney e elenco de animacaoResumo: Pai separado cria curtas animados a partir dos titulos inventados pela filha mantendo o vinculo entre os dois.
URL:https://cauim.org/evento/maya-me-de-um-titulo-maya-donne-moi-un-titre-2025/
LOCATION:Cineclube Cauim\, R. Olavo Bilac\, 135\, Vila Seixas\, Ribeirão Preto - SP\, São Paulo\, 14020-020\, Brasil
CATEGORIES:Festival de Cinema Francês,Filmes
END:VEVENT
BEGIN:VEVENT
DTSTART;TZID=America/Sao_Paulo:20251207T173000
DTEND;TZID=America/Sao_Paulo:20251207T173000
DTSTAMP:20260419T161521
CREATED:20251114T014504Z
LAST-MODIFIED:20251114T014504Z
UID:10696-1765128600-1765128600@cauim.org
SUMMARY:Sem Control (Dis Moi Juste Que Tu M Aimes 2025)
DESCRIPTION:Direcao: Anne Le NyElenco: Omar Sy / Elodie Bouchez / Vanessa Paradis / Jose GarciaResumo: Crise de casamento leva Marie a um triangulo perigoso que transforma o romance em caso policial.
URL:https://cauim.org/evento/sem-control-dis-moi-juste-que-tu-m-aimes-2025-2/
LOCATION:Cineclube Cauim\, R. Olavo Bilac\, 135\, Vila Seixas\, Ribeirão Preto - SP\, São Paulo\, 14020-020\, Brasil
CATEGORIES:Festival de Cinema Francês,Filmes
END:VEVENT
BEGIN:VEVENT
DTSTART;TZID=America/Sao_Paulo:20251207T193000
DTEND;TZID=America/Sao_Paulo:20251207T193000
DTSTAMP:20260419T161521
CREATED:20251114T014504Z
LAST-MODIFIED:20251114T014504Z
UID:10697-1765135800-1765135800@cauim.org
SUMMARY:O Estrangeiro (L Etranger 2025)
DESCRIPTION:Direcao: Francois OzonElenco: Benjamin Voisin / Rebecca Marder / Pierre LottinResumo: Meursault homem apatico comete assassinato na Argelia dos anos 1930 e enfrenta julgamento que questiona seu carater.
URL:https://cauim.org/evento/o-estrangeiro-l-etranger-2025/
LOCATION:Cineclube Cauim\, R. Olavo Bilac\, 135\, Vila Seixas\, Ribeirão Preto - SP\, São Paulo\, 14020-020\, Brasil
CATEGORIES:Festival de Cinema Francês,Filmes
END:VEVENT
END:VCALENDAR