BEGIN:VCALENDAR
VERSION:2.0
PRODID:-//Cine Clube Cauim - ECPv6.2.8.1//NONSGML v1.0//EN
CALSCALE:GREGORIAN
METHOD:PUBLISH
X-WR-CALNAME:Cine Clube Cauim
X-ORIGINAL-URL:https://cauim.org
X-WR-CALDESC:Eventos para Cine Clube Cauim
REFRESH-INTERVAL;VALUE=DURATION:PT1H
X-Robots-Tag:noindex
X-PUBLISHED-TTL:PT1H
BEGIN:VTIMEZONE
TZID:America/Sao_Paulo
BEGIN:STANDARD
TZOFFSETFROM:-0300
TZOFFSETTO:-0300
TZNAME:-03
DTSTART:20250101T000000
END:STANDARD
END:VTIMEZONE
BEGIN:VEVENT
DTSTART;TZID=America/Sao_Paulo:20251206T150000
DTEND;TZID=America/Sao_Paulo:20251206T150000
DTSTAMP:20260419T161521
CREATED:20251114T014326Z
LAST-MODIFIED:20251114T014326Z
UID:10692-1765033200-1765033200@cauim.org
SUMMARY:A Cabra (La Chevre 1981)
DESCRIPTION:Direcao: Francis VeberElenco: Pierre Richard / Gerard Depardieu / Pedro Armendariz JrResumo: Detetive serio e parceiro desastrado viajam ao Mexico para encontrar filha azarada de um grande executivo.
URL:https://cauim.org/evento/a-cabra-la-chevre-1981-2/
LOCATION:Cineclube Cauim\, R. Olavo Bilac\, 135\, Vila Seixas\, Ribeirão Preto - SP\, São Paulo\, 14020-020\, Brasil
CATEGORIES:Festival de Cinema Francês,Filmes
END:VEVENT
BEGIN:VEVENT
DTSTART;TZID=America/Sao_Paulo:20251206T173000
DTEND;TZID=America/Sao_Paulo:20251206T173000
DTSTAMP:20260419T161521
CREATED:20251114T014326Z
LAST-MODIFIED:20251114T014326Z
UID:10693-1765042200-1765042200@cauim.org
SUMMARY:Amor nos Bastidores (Le Beau Role 2025)
DESCRIPTION:Direcao: Victor RodenbachElenco: William Lebghil / Vimala PonsResumo: Casal de artistas entra em crise quando ele consegue papel no cinema e a dinamica de criacao conjunta desaba.
URL:https://cauim.org/evento/amor-nos-bastidores-le-beau-role-2025-2/
LOCATION:Cineclube Cauim\, R. Olavo Bilac\, 135\, Vila Seixas\, Ribeirão Preto - SP\, São Paulo\, 14020-020\, Brasil
CATEGORIES:Festival de Cinema Francês,Filmes
END:VEVENT
BEGIN:VEVENT
DTSTART;TZID=America/Sao_Paulo:20251206T193000
DTEND;TZID=America/Sao_Paulo:20251206T193000
DTSTAMP:20260419T161521
CREATED:20251114T014327Z
LAST-MODIFIED:20251114T014327Z
UID:10694-1765049400-1765049400@cauim.org
SUMMARY:Era Uma Vez Minha Mae (Ma Mere Dieu et Sylvie Vartan 2025)
DESCRIPTION:Direcao: Ken ScottElenco: Leila Bekhti / Jonathan Cohen / Sylvie VartanResumo: Esther promete ao filho com pe torto uma vida plena e luta a vida inteira para cumprir essa promessa.
URL:https://cauim.org/evento/era-uma-vez-minha-mae-ma-mere-dieu-et-sylvie-vartan-2025-2/
LOCATION:Cineclube Cauim\, R. Olavo Bilac\, 135\, Vila Seixas\, Ribeirão Preto - SP\, São Paulo\, 14020-020\, Brasil
CATEGORIES:Festival de Cinema Francês,Filmes
END:VEVENT
END:VCALENDAR