BEGIN:VCALENDAR
VERSION:2.0
PRODID:-//Cine Clube Cauim - ECPv6.2.8.1//NONSGML v1.0//EN
CALSCALE:GREGORIAN
METHOD:PUBLISH
X-WR-CALNAME:Cine Clube Cauim
X-ORIGINAL-URL:https://cauim.org
X-WR-CALDESC:Eventos para Cine Clube Cauim
REFRESH-INTERVAL;VALUE=DURATION:PT1H
X-Robots-Tag:noindex
X-PUBLISHED-TTL:PT1H
BEGIN:VTIMEZONE
TZID:America/Sao_Paulo
BEGIN:STANDARD
TZOFFSETFROM:-0300
TZOFFSETTO:-0300
TZNAME:-03
DTSTART:20250101T000000
END:STANDARD
END:VTIMEZONE
BEGIN:VEVENT
DTSTART;TZID=America/Sao_Paulo:20251205T190000
DTEND;TZID=America/Sao_Paulo:20251205T190000
DTSTAMP:20260419T161521
CREATED:20251114T014312Z
LAST-MODIFIED:20251114T014312Z
UID:10690-1764961200-1764961200@cauim.org
SUMMARY:Vizinhos Barbaros (Les Barbares 2025)
DESCRIPTION:Direcao: Julie DelpyElenco: Julie Delpy / Sandrine Kiberlain / Laurent LafitteResumo: Pequena comunidade que decide acolher refugiados se divide quando descobre que eles nao sao quem esperavam.
URL:https://cauim.org/evento/vizinhos-barbaros-les-barbares-2025/
LOCATION:Cineclube Cauim\, R. Olavo Bilac\, 135\, Vila Seixas\, Ribeirão Preto - SP\, São Paulo\, 14020-020\, Brasil
CATEGORIES:Festival de Cinema Francês,Filmes
END:VEVENT
BEGIN:VEVENT
DTSTART;TZID=America/Sao_Paulo:20251205T210000
DTEND;TZID=America/Sao_Paulo:20251205T210000
DTSTAMP:20260419T161521
CREATED:20251114T014326Z
LAST-MODIFIED:20251114T014326Z
UID:10691-1764968400-1764968400@cauim.org
SUMMARY:A Mulher Mais Rica do Mundo (La Femme la Plus Riche du Monde 2025)
DESCRIPTION:Direcao: Thierry KliffaElenco: Isabelle Huppert / Marina Fois / Laurent LafitteResumo: Romance e intrigas cercam uma herdeira desconfiada um escritor fotografo ambicioso e segredos de familia.
URL:https://cauim.org/evento/a-mulher-mais-rica-do-mundo-la-femme-la-plus-riche-du-monde-2025-3/
LOCATION:Cineclube Cauim\, R. Olavo Bilac\, 135\, Vila Seixas\, Ribeirão Preto - SP\, São Paulo\, 14020-020\, Brasil
CATEGORIES:Festival de Cinema Francês,Filmes
END:VEVENT
END:VCALENDAR