BEGIN:VCALENDAR
VERSION:2.0
PRODID:-//Cine Clube Cauim - ECPv6.2.8.1//NONSGML v1.0//EN
CALSCALE:GREGORIAN
METHOD:PUBLISH
X-ORIGINAL-URL:https://cauim.org
X-WR-CALDESC:Eventos para Cine Clube Cauim
REFRESH-INTERVAL;VALUE=DURATION:PT1H
X-Robots-Tag:noindex
X-PUBLISHED-TTL:PT1H
BEGIN:VTIMEZONE
TZID:America/Sao_Paulo
BEGIN:STANDARD
TZOFFSETFROM:-0300
TZOFFSETTO:-0300
TZNAME:-03
DTSTART:20250101T000000
END:STANDARD
END:VTIMEZONE
BEGIN:VEVENT
DTSTART;TZID=America/Sao_Paulo:20251204T163000
DTEND;TZID=America/Sao_Paulo:20251204T163000
DTSTAMP:20260419T101907
CREATED:20251114T014311Z
LAST-MODIFIED:20251114T014311Z
UID:10687-1764865800-1764865800@cauim.org
SUMMARY:La Pampa (La Pampa 2024)
DESCRIPTION:Direcao: Antoine ChevrolierElenco: Sayyid El Alami / Amaury Foucher / Damien BonnardResumo: Melhor amigos adolescentes veem seus planos de fugir para a cidade ruirem quando um segredo vem a tona.
URL:https://cauim.org/evento/la-pampa-la-pampa-2024/
LOCATION:Cineclube Cauim\, R. Olavo Bilac\, 135\, Vila Seixas\, Ribeirão Preto - SP\, São Paulo\, 14020-020\, Brasil
CATEGORIES:Festival de Cinema Francês,Filmes
END:VEVENT
BEGIN:VEVENT
DTSTART;TZID=America/Sao_Paulo:20251204T190000
DTEND;TZID=America/Sao_Paulo:20251204T190000
DTSTAMP:20260419T101907
CREATED:20251114T014311Z
LAST-MODIFIED:20251114T014311Z
UID:10688-1764874800-1764874800@cauim.org
SUMMARY:Maos a Obra (A Pied d Oeuvre 2025)
DESCRIPTION:Direcao: Valerie DonzelliElenco: Bastien Bouillon / Virginie Ledoyen / Marie RiviereResumo: Fotografo bem sucedido abandona a carreira para escrever e se confronta com a pobreza e com novos valores.
URL:https://cauim.org/evento/maos-a-obra-a-pied-d-oeuvre-2025-2/
LOCATION:Cineclube Cauim\, R. Olavo Bilac\, 135\, Vila Seixas\, Ribeirão Preto - SP\, São Paulo\, 14020-020\, Brasil
CATEGORIES:Festival de Cinema Francês,Filmes
END:VEVENT
BEGIN:VEVENT
DTSTART;TZID=America/Sao_Paulo:20251204T210000
DTEND;TZID=America/Sao_Paulo:20251204T210000
DTSTAMP:20260419T101907
CREATED:20251114T014312Z
LAST-MODIFIED:20251114T014312Z
UID:10689-1764882000-1764882000@cauim.org
SUMMARY:Mercato Os Donos da Bola (Mercato 2025)
DESCRIPTION:Direcao: Tristan SeguelaElenco: Jamel Debbouze / Monia Chokri / Hakim JemiliResumo: Empresario de jogadores tem poucos dias para fechar negocios e salvar a propria pele no mercado do futebol.
URL:https://cauim.org/evento/mercato-os-donos-da-bola-mercato-2025-2/
LOCATION:Cineclube Cauim\, R. Olavo Bilac\, 135\, Vila Seixas\, Ribeirão Preto - SP\, São Paulo\, 14020-020\, Brasil
CATEGORIES:Festival de Cinema Francês,Filmes
END:VEVENT
END:VCALENDAR