BEGIN:VCALENDAR
VERSION:2.0
PRODID:-//Cine Clube Cauim - ECPv6.2.8.1//NONSGML v1.0//EN
CALSCALE:GREGORIAN
METHOD:PUBLISH
X-ORIGINAL-URL:https://cauim.org
X-WR-CALDESC:Eventos para Cine Clube Cauim
REFRESH-INTERVAL;VALUE=DURATION:PT1H
X-Robots-Tag:noindex
X-PUBLISHED-TTL:PT1H
BEGIN:VTIMEZONE
TZID:America/Sao_Paulo
BEGIN:STANDARD
TZOFFSETFROM:-0300
TZOFFSETTO:-0300
TZNAME:-03
DTSTART:20250101T000000
END:STANDARD
END:VTIMEZONE
BEGIN:VEVENT
DTSTART;TZID=America/Sao_Paulo:20251213T150000
DTEND;TZID=America/Sao_Paulo:20251213T150000
DTSTAMP:20260419T200741
CREATED:20251114T014735Z
LAST-MODIFIED:20251114T014735Z
UID:10713-1765638000-1765638000@cauim.org
SUMMARY:A Cabra (La Chevre 1981)
DESCRIPTION:Direcao: Francis VeberElenco: Pierre Richard / Gerard Depardieu / Pedro Armendariz JrResumo: Detetive serio e parceiro desastrado viajam ao Mexico para encontrar filha azarada de um grande executivo.
URL:https://cauim.org/evento/a-cabra-la-chevre-1981-3/
LOCATION:Cineclube Cauim\, R. Olavo Bilac\, 135\, Vila Seixas\, Ribeirão Preto - SP\, São Paulo\, 14020-020\, Brasil
CATEGORIES:Festival de Cinema Francês,Filmes
END:VEVENT
BEGIN:VEVENT
DTSTART;TZID=America/Sao_Paulo:20251213T173000
DTEND;TZID=America/Sao_Paulo:20251213T173000
DTSTAMP:20260419T200741
CREATED:20251114T014736Z
LAST-MODIFIED:20251114T014736Z
UID:10714-1765647000-1765647000@cauim.org
SUMMARY:Amor nos Bastidores (Le Beau Role 2025)
DESCRIPTION:Direcao: Victor RodenbachElenco: William Lebghil / Vimala PonsResumo: Casal de artistas entra em crise quando ele consegue papel no cinema e a dinamica de criacao conjunta desaba.
URL:https://cauim.org/evento/amor-nos-bastidores-le-beau-role-2025-3/
LOCATION:Cineclube Cauim\, R. Olavo Bilac\, 135\, Vila Seixas\, Ribeirão Preto - SP\, São Paulo\, 14020-020\, Brasil
CATEGORIES:Festival de Cinema Francês,Filmes
END:VEVENT
BEGIN:VEVENT
DTSTART;TZID=America/Sao_Paulo:20251213T193000
DTEND;TZID=America/Sao_Paulo:20251213T193000
DTSTAMP:20260419T200741
CREATED:20251114T014736Z
LAST-MODIFIED:20251114T014736Z
UID:10715-1765654200-1765654200@cauim.org
SUMMARY:O Apego (L Attachement 2025)
DESCRIPTION:Direcao: Carine TardieuElenco: Valeria Bruni Tedeschi / Pio Marmai / Vimala PonsResumo: Sandra independente se ve ligada a vizinho e seus filhos e descobre um novo tipo de familia afetiva.
URL:https://cauim.org/evento/o-apego-l-attachement-2025-3/
LOCATION:Cineclube Cauim\, R. Olavo Bilac\, 135\, Vila Seixas\, Ribeirão Preto - SP\, São Paulo\, 14020-020\, Brasil
CATEGORIES:Festival de Cinema Francês,Filmes
END:VEVENT
END:VCALENDAR