BEGIN:VCALENDAR
VERSION:2.0
PRODID:-//Cine Clube Cauim - ECPv6.2.8.1//NONSGML v1.0//EN
CALSCALE:GREGORIAN
METHOD:PUBLISH
X-ORIGINAL-URL:https://cauim.org
X-WR-CALDESC:Eventos para Cine Clube Cauim
REFRESH-INTERVAL;VALUE=DURATION:PT1H
X-Robots-Tag:noindex
X-PUBLISHED-TTL:PT1H
BEGIN:VTIMEZONE
TZID:America/Sao_Paulo
BEGIN:STANDARD
TZOFFSETFROM:-0300
TZOFFSETTO:-0300
TZNAME:-03
DTSTART:20250101T000000
END:STANDARD
END:VTIMEZONE
BEGIN:VEVENT
DTSTART;TZID=America/Sao_Paulo:20251208T163000
DTEND;TZID=America/Sao_Paulo:20251208T163000
DTSTAMP:20260419T200743
CREATED:20251114T014505Z
LAST-MODIFIED:20251114T014505Z
UID:10698-1765211400-1765211400@cauim.org
SUMMARY:O Segredo da Chefe (Partir Un Jour 2025)
DESCRIPTION:Direcao: Amelie BoninElenco: Bastien Bouillon / Juliette ArmanetResumo: Chef francesa volta a cidade natal apos doenca do pai e reencontra antigo amor repensando sonhos e escolhas.
URL:https://cauim.org/evento/o-segredo-da-chefe-partir-un-jour-2025-2/
LOCATION:Cineclube Cauim\, R. Olavo Bilac\, 135\, Vila Seixas\, Ribeirão Preto - SP\, São Paulo\, 14020-020\, Brasil
CATEGORIES:Festival de Cinema Francês,Filmes
END:VEVENT
BEGIN:VEVENT
DTSTART;TZID=America/Sao_Paulo:20251208T190000
DTEND;TZID=America/Sao_Paulo:20251208T190000
DTSTAMP:20260419T200743
CREATED:20251114T014505Z
LAST-MODIFIED:20251114T014505Z
UID:10699-1765220400-1765220400@cauim.org
SUMMARY:O Caso Maldoror (Le Dossier Maldoror 2025)
DESCRIPTION:Direcao: Fabrice du WelzElenco: Antony Bajon / Sergi LopezResumo: Jovem policial segue suspeito reincidente em operacao secreta e confronta limites do sistema e de suas proprias obsessoes.
URL:https://cauim.org/evento/o-caso-maldoror-le-dossier-maldoror-2025/
LOCATION:Cineclube Cauim\, R. Olavo Bilac\, 135\, Vila Seixas\, Ribeirão Preto - SP\, São Paulo\, 14020-020\, Brasil
CATEGORIES:Festival de Cinema Francês,Filmes
END:VEVENT
BEGIN:VEVENT
DTSTART;TZID=America/Sao_Paulo:20251208T210000
DTEND;TZID=America/Sao_Paulo:20251208T210000
DTSTAMP:20260419T200743
CREATED:20251114T014505Z
LAST-MODIFIED:20251114T014505Z
UID:10700-1765227600-1765227600@cauim.org
SUMMARY:Jornada de Bicicleta (A Bicyclette 2025)
DESCRIPTION:Direcao: Mathias MlekuzElenco: Mathias Mlekuz / Philippe Rebbot / Josef MlekuzResumo: Amigos refazem de bicicleta a viagem interrompida do filho de um deles e enfrentam luto com humor e emocao.
URL:https://cauim.org/evento/jornada-de-bicicleta-a-bicyclette-2025-2/
LOCATION:Cineclube Cauim\, R. Olavo Bilac\, 135\, Vila Seixas\, Ribeirão Preto - SP\, São Paulo\, 14020-020\, Brasil
CATEGORIES:Festival de Cinema Francês,Filmes
END:VEVENT
END:VCALENDAR