BEGIN:VCALENDAR
VERSION:2.0
PRODID:-//Cine Clube Cauim - ECPv6.2.8.1//NONSGML v1.0//EN
CALSCALE:GREGORIAN
METHOD:PUBLISH
X-WR-CALNAME:Cine Clube Cauim
X-ORIGINAL-URL:https://cauim.org
X-WR-CALDESC:Eventos para Cine Clube Cauim
REFRESH-INTERVAL;VALUE=DURATION:PT1H
X-Robots-Tag:noindex
X-PUBLISHED-TTL:PT1H
BEGIN:VTIMEZONE
TZID:America/Sao_Paulo
BEGIN:STANDARD
TZOFFSETFROM:-0300
TZOFFSETTO:-0300
TZNAME:-03
DTSTART:20250101T000000
END:STANDARD
END:VTIMEZONE
BEGIN:VEVENT
DTSTART;TZID=America/Sao_Paulo:20251203T163000
DTEND;TZID=America/Sao_Paulo:20251203T163000
DTSTAMP:20260419T103128
CREATED:20251114T014257Z
LAST-MODIFIED:20251114T014257Z
UID:10684-1764779400-1764779400@cauim.org
SUMMARY:A Cabra (La Chevre 1981)
DESCRIPTION:Direcao: Francis VeberElenco: Pierre Richard / Gerard Depardieu / Pedro Armendariz JrResumo: Detetive serio e parceiro desastrado viajam ao Mexico para encontrar filha azarada de um grande executivo.
URL:https://cauim.org/evento/a-cabra-la-chevre-1981/
LOCATION:Cineclube Cauim\, R. Olavo Bilac\, 135\, Vila Seixas\, Ribeirão Preto - SP\, São Paulo\, 14020-020\, Brasil
CATEGORIES:Festival de Cinema Francês,Filmes
END:VEVENT
BEGIN:VEVENT
DTSTART;TZID=America/Sao_Paulo:20251203T190000
DTEND;TZID=America/Sao_Paulo:20251203T190000
DTSTAMP:20260419T103128
CREATED:20251114T014257Z
LAST-MODIFIED:20251114T014257Z
UID:10685-1764788400-1764788400@cauim.org
SUMMARY:Sonho Logo Existo (L Homme Qui a Vu l Ours Qui a Vu l Homme 2025)
DESCRIPTION:Direcao: Pierre RichardElenco: Pierre Richard / Timi Joy Marbot / Gustave KervernResumo: Dois amigos de geracoes diferentes compartilham amor pela natureza e por um urso fugitivo de circo.
URL:https://cauim.org/evento/sonho-logo-existo-l-homme-qui-a-vu-l-ours-qui-a-vu-l-homme-2025/
LOCATION:Cineclube Cauim\, R. Olavo Bilac\, 135\, Vila Seixas\, Ribeirão Preto - SP\, São Paulo\, 14020-020\, Brasil
CATEGORIES:Festival de Cinema Francês,Filmes
END:VEVENT
BEGIN:VEVENT
DTSTART;TZID=America/Sao_Paulo:20251203T210000
DTEND;TZID=America/Sao_Paulo:20251203T210000
DTSTAMP:20260419T103128
CREATED:20251114T014311Z
LAST-MODIFIED:20251114T014311Z
UID:10686-1764795600-1764795600@cauim.org
SUMMARY:Fanon (Fanon 2025)
DESCRIPTION:Direcao: Jean Claude BarnyElenco: Alexandre Bouyer / Deborah Francois / Stanislas MerharResumo: Biografia de Frantz Fanon medico psiquiatra em hospital argelino em meio a guerra e a luta anticolonial.
URL:https://cauim.org/evento/fanon-fanon-2025/
LOCATION:Cineclube Cauim\, R. Olavo Bilac\, 135\, Vila Seixas\, Ribeirão Preto - SP\, São Paulo\, 14020-020\, Brasil
CATEGORIES:Festival de Cinema Francês,Filmes
END:VEVENT
END:VCALENDAR