BEGIN:VCALENDAR
VERSION:2.0
PRODID:-//Cine Clube Cauim - ECPv6.2.8.1//NONSGML v1.0//EN
CALSCALE:GREGORIAN
METHOD:PUBLISH
X-ORIGINAL-URL:https://cauim.org
X-WR-CALDESC:Eventos para Cine Clube Cauim
REFRESH-INTERVAL;VALUE=DURATION:PT1H
X-Robots-Tag:noindex
X-PUBLISHED-TTL:PT1H
BEGIN:VTIMEZONE
TZID:America/Sao_Paulo
BEGIN:STANDARD
TZOFFSETFROM:-0300
TZOFFSETTO:-0300
TZNAME:-03
DTSTART:20250101T000000
END:STANDARD
END:VTIMEZONE
BEGIN:VEVENT
DTSTART;TZID=America/Sao_Paulo:20251112T170000
DTEND;TZID=America/Sao_Paulo:20251112T170000
DTSTAMP:20260419T200711
CREATED:20251108T221610Z
LAST-MODIFIED:20251108T221610Z
UID:10279-1762966800-1762966800@cauim.org
SUMMARY:Cinema & Literatura – Sessão 17h
DESCRIPTION:
URL:https://cauim.org/evento/cinema-literatura-sessao-17h-13/
CATEGORIES:Cinema & Literatura
END:VEVENT
END:VCALENDAR