BEGIN:VCALENDAR
VERSION:2.0
PRODID:-//Cine Clube Cauim - ECPv6.2.8.1//NONSGML v1.0//EN
CALSCALE:GREGORIAN
METHOD:PUBLISH
X-WR-CALNAME:Cine Clube Cauim
X-ORIGINAL-URL:https://cauim.org
X-WR-CALDESC:Eventos para Cine Clube Cauim
REFRESH-INTERVAL;VALUE=DURATION:PT1H
X-Robots-Tag:noindex
X-PUBLISHED-TTL:PT1H
BEGIN:VTIMEZONE
TZID:America/Sao_Paulo
BEGIN:STANDARD
TZOFFSETFROM:-0300
TZOFFSETTO:-0300
TZNAME:-03
DTSTART:20250101T000000
END:STANDARD
END:VTIMEZONE
BEGIN:VEVENT
DTSTART;TZID=America/Sao_Paulo:20251027T170000
DTEND;TZID=America/Sao_Paulo:20251027T170000
DTSTAMP:20260417T220739
CREATED:20251025T141647Z
LAST-MODIFIED:20251025T141647Z
UID:10016-1761584400-1761584400@cauim.org
SUMMARY:Cinema & Literatura – Sessão 17h
DESCRIPTION:Uns Braços (2009)Inácio\, um garoto de quinze anos de idade\, é atraído pelos braços indecorosamente à mostra de dona Severina\, casada com um homem bruto.\nO filme é baseado no conto homônimo de Machado de Assis.\nDireção: Jom Tob Azulay\nElenco: Ítala Mattos\, Lucas Sant’Anna\, Ney Leontsinis e Geni Alexandrino.
URL:https://cauim.org/evento/cinema-literatura-sessao-17h-6/
CATEGORIES:Cinema & Literatura
END:VEVENT
END:VCALENDAR