BEGIN:VCALENDAR
VERSION:2.0
PRODID:-//Cine Clube Cauim - ECPv6.2.8.1//NONSGML v1.0//EN
CALSCALE:GREGORIAN
METHOD:PUBLISH
X-WR-CALNAME:Cine Clube Cauim
X-ORIGINAL-URL:https://cauim.org
X-WR-CALDESC:Eventos para Cine Clube Cauim
REFRESH-INTERVAL;VALUE=DURATION:PT1H
X-Robots-Tag:noindex
X-PUBLISHED-TTL:PT1H
BEGIN:VTIMEZONE
TZID:America/Sao_Paulo
BEGIN:STANDARD
TZOFFSETFROM:-0300
TZOFFSETTO:-0300
TZNAME:-03
DTSTART:20250101T000000
END:STANDARD
END:VTIMEZONE
BEGIN:VEVENT
DTSTART;TZID=America/Sao_Paulo:20251020T170000
DTEND;TZID=America/Sao_Paulo:20251020T170000
DTSTAMP:20260415T011705
CREATED:20251017T100757Z
LAST-MODIFIED:20251017T100757Z
UID:9898-1760979600-1760979600@cauim.org
SUMMARY:Cinema & Literatura – Sessão 17h
DESCRIPTION:• A João Guimarães Rosa (1968) – Dir.: Roberto Santos & Marcelo Tassara. Sertão de Minas e trechos de Grande Sertão: Veredas.• Rio-de-janeiro\, Minas (1991) – Dir.: Marily da Cunha Bezerra. Encontro entre Riobaldo e Diadorim.
URL:https://cauim.org/evento/cinema-literatura-sessao-17h/
CATEGORIES:Cinema & Literatura
END:VEVENT
BEGIN:VEVENT
DTSTART;TZID=America/Sao_Paulo:20251021T170000
DTEND;TZID=America/Sao_Paulo:20251021T170000
DTSTAMP:20260415T011705
CREATED:20251017T100757Z
LAST-MODIFIED:20251017T100757Z
UID:9899-1761066000-1761066000@cauim.org
SUMMARY:Cinema & Literatura – Sessão 17h
DESCRIPTION:• Teoria do Medalhão (2009) – Dir.: Mario Vieira da Silva. Baseado em conto de Machado de Assis.
URL:https://cauim.org/evento/cinema-literatura-sessao-17h-2/
CATEGORIES:Cinema & Literatura
END:VEVENT
BEGIN:VEVENT
DTSTART;TZID=America/Sao_Paulo:20251022T170000
DTEND;TZID=America/Sao_Paulo:20251022T170000
DTSTAMP:20260415T011705
CREATED:20251017T100812Z
LAST-MODIFIED:20251017T100812Z
UID:9900-1761152400-1761152400@cauim.org
SUMMARY:Cinema & Literatura – Sessão 17h
DESCRIPTION:• O Caso da Vara (2009) – Dir.: Liloye Boubli. Adaptação de Machado de Assis.
URL:https://cauim.org/evento/cinema-literatura-sessao-17h-3/
CATEGORIES:Cinema & Literatura
END:VEVENT
BEGIN:VEVENT
DTSTART;TZID=America/Sao_Paulo:20251023T170000
DTEND;TZID=America/Sao_Paulo:20251023T170000
DTSTAMP:20260415T011705
CREATED:20251017T100812Z
LAST-MODIFIED:20251017T100812Z
UID:9901-1761238800-1761238800@cauim.org
SUMMARY:Cinema & Literatura – Sessão 17h
DESCRIPTION:• Uma Visita de Alcibíades (2009) – Dir.: Octávio Bezerra. Livre adaptação de Machado de Assis.
URL:https://cauim.org/evento/cinema-literatura-sessao-17h-4/
CATEGORIES:Cinema & Literatura
END:VEVENT
BEGIN:VEVENT
DTSTART;TZID=America/Sao_Paulo:20251024T170000
DTEND;TZID=America/Sao_Paulo:20251024T170000
DTSTAMP:20260415T011705
CREATED:20251017T100812Z
LAST-MODIFIED:20251017T100812Z
UID:9902-1761325200-1761325200@cauim.org
SUMMARY:Cinema & Literatura – Sessão 17h
DESCRIPTION:• Entre Santos (2009) – Dir.: Helena Lustosa. Adaptação de Machado de Assis.
URL:https://cauim.org/evento/cinema-literatura-sessao-17h-5/
CATEGORIES:Cinema & Literatura
END:VEVENT
BEGIN:VEVENT
DTSTART;TZID=America/Sao_Paulo:20251027T170000
DTEND;TZID=America/Sao_Paulo:20251027T170000
DTSTAMP:20260415T011705
CREATED:20251025T141647Z
LAST-MODIFIED:20251025T141647Z
UID:10016-1761584400-1761584400@cauim.org
SUMMARY:Cinema & Literatura – Sessão 17h
DESCRIPTION:Uns Braços (2009)Inácio\, um garoto de quinze anos de idade\, é atraído pelos braços indecorosamente à mostra de dona Severina\, casada com um homem bruto.\nO filme é baseado no conto homônimo de Machado de Assis.\nDireção: Jom Tob Azulay\nElenco: Ítala Mattos\, Lucas Sant’Anna\, Ney Leontsinis e Geni Alexandrino.
URL:https://cauim.org/evento/cinema-literatura-sessao-17h-6/
CATEGORIES:Cinema & Literatura
END:VEVENT
BEGIN:VEVENT
DTSTART;TZID=America/Sao_Paulo:20251028T170000
DTEND;TZID=America/Sao_Paulo:20251028T170000
DTSTAMP:20260415T011705
CREATED:20251025T141647Z
LAST-MODIFIED:20251025T141647Z
UID:10017-1761670800-1761670800@cauim.org
SUMMARY:Cinema & Literatura – Sessão 17h
DESCRIPTION:O Enfermeiro (1999)O enfermeiro Procópio Valongo deixa o Rio de Janeiro para cuidar de um velho rico e doente no interior. O velho é intolerante e agressivo\, até que um dia…\nDireção: Mauro Farias\nElenco: Matheus Nachtergale\, Paulo Autran\, Giuseppe Oristâneo.
URL:https://cauim.org/evento/cinema-literatura-sessao-17h-7/
CATEGORIES:Cinema & Literatura
END:VEVENT
BEGIN:VEVENT
DTSTART;TZID=America/Sao_Paulo:20251029T170000
DTEND;TZID=America/Sao_Paulo:20251029T170000
DTSTAMP:20260415T011705
CREATED:20251025T141648Z
LAST-MODIFIED:20251025T141648Z
UID:10018-1761757200-1761757200@cauim.org
SUMMARY:Cinema & Literatura – Sessão 17h
DESCRIPTION:Satori Uso (2007)Um poeta das sombras\, um cineasta sem filmes e uma musa enigmática. Eis os personagens desta fita\, um “documentário” sobre um poeta que nunca existiu.\nDireção: Rodrigo Grota\nElenco: Rogério Ivano\, Joseph Nietzsche e Carmen Utino\nTransubstancial (2003)\nVisão existencialista da obra do poeta Augusto dos Anjos\, com metáforas sobre a vida e a morte.\nDireção: Torquato Joel\nElenco: Walmar Pessoa\, Fernando Teixeira\, Luiz Carlos Vasconcelos e Carlos Gregório.
URL:https://cauim.org/evento/cinema-literatura-sessao-17h-8/
CATEGORIES:Cinema & Literatura
END:VEVENT
BEGIN:VEVENT
DTSTART;TZID=America/Sao_Paulo:20251030T170000
DTEND;TZID=America/Sao_Paulo:20251030T170000
DTSTAMP:20260415T011705
CREATED:20251025T141648Z
LAST-MODIFIED:20251025T141648Z
UID:10019-1761843600-1761843600@cauim.org
SUMMARY:Cinema & Literatura – Sessão 17h
DESCRIPTION:A Aranha (2003)Conto de Orígenes Lessa lido por Maria Luísa Mendonça.\nA Caçada (2003)\nConto de Lygia Fagundes Telles lido por Antônio Abujamra.\nA Caolha (2003)\nConto de Júlia Lopes de Almeida lido por Marília Pêra.
URL:https://cauim.org/evento/cinema-literatura-sessao-17h-9/
CATEGORIES:Cinema & Literatura
END:VEVENT
BEGIN:VEVENT
DTSTART;TZID=America/Sao_Paulo:20251031T170000
DTEND;TZID=America/Sao_Paulo:20251031T170000
DTSTAMP:20260415T011705
CREATED:20251025T141648Z
LAST-MODIFIED:20251025T141648Z
UID:10020-1761930000-1761930000@cauim.org
SUMMARY:Cinema & Literatura – Sessão 17h
DESCRIPTION:A Conquista (2004)Conto de Ribeiro Couto lido por Marília Pêra.\nA Invasão (2004)\nConto de Leandro Konder lido por Lázaro Ramos.\nA Menina (2004)\nConto de Natércia Campos lido por Beatriz Segall.
URL:https://cauim.org/evento/cinema-literatura-sessao-17h-10/
CATEGORIES:Cinema & Literatura
END:VEVENT
END:VCALENDAR