BEGIN:VCALENDAR
VERSION:2.0
PRODID:-//Cine Clube Cauim - ECPv6.2.8.1//NONSGML v1.0//EN
CALSCALE:GREGORIAN
METHOD:PUBLISH
X-ORIGINAL-URL:https://cauim.org/es
X-WR-CALDESC:Events for Cine Clube Cauim
REFRESH-INTERVAL;VALUE=DURATION:PT1H
X-Robots-Tag:noindex
X-PUBLISHED-TTL:PT1H
BEGIN:VTIMEZONE
TZID:America/Sao_Paulo
BEGIN:STANDARD
TZOFFSETFROM:-0300
TZOFFSETTO:-0300
TZNAME:-03
DTSTART:20250101T000000
END:STANDARD
END:VTIMEZONE
BEGIN:VEVENT
DTSTART;TZID=America/Sao_Paulo:20251012T143000
DTEND;TZID=America/Sao_Paulo:20251012T143000
DTSTAMP:20260419T193925
CREATED:20251009T141007Z
LAST-MODIFIED:20251009T141007Z
UID:9819-1760279400-1760279400@cauim.org
SUMMARY:Science Film Festival – Sessão de Curtas
DESCRIPTION:Science Film Festival – Programação de curtas:\n– Casa dos Pequenos Cientistas – Folha de Lótus Hidrofóbica\n– Amor à Primeira Vista\n– A Menina e a Árvore\n– Super Cientistas – Origens\n– Você Acreditaria?\n– +Forte\n– Canela de Ema – O Mistério dos Muiraquitãs
URL:https://cauim.org/es/evento/science-film-festival-sessao-de-curtas-3/
LOCATION:São Paulo
CATEGORIES:Filmes
END:VEVENT
BEGIN:VEVENT
DTSTART;TZID=America/Sao_Paulo:20251012T163000
DTEND;TZID=America/Sao_Paulo:20251012T163000
DTSTAMP:20260419T193925
CREATED:20251009T141007Z
LAST-MODIFIED:20251009T141007Z
UID:9820-1760286600-1760286600@cauim.org
SUMMARY:Science Film Festival – Sessão de Curtas
DESCRIPTION:Science Film Festival – Programação de curtas:\n– Casa dos Pequenos Cientistas – Folha de Lótus Hidrofóbica\n– Amor à Primeira Vista\n– A Menina e a Árvore\n– Super Cientistas – Origens\n– Você Acreditaria?\n– +Forte\n– Canela de Ema – O Mistério dos Muiraquitãs
URL:https://cauim.org/es/evento/science-film-festival-sessao-de-curtas-4/
LOCATION:São Paulo
CATEGORIES:Filmes
END:VEVENT
BEGIN:VEVENT
DTSTART;TZID=America/Sao_Paulo:20251025T143000
DTEND;TZID=America/Sao_Paulo:20251025T143000
DTSTAMP:20260419T193925
CREATED:20251017T100737Z
LAST-MODIFIED:20251017T100737Z
UID:9886-1761402600-1761402600@cauim.org
SUMMARY:Science Film Festival – Sessão de Curtas (14h30)
DESCRIPTION:Science Film Festival – Programação de curtas:- Casa dos Pequenos Cientistas – Folha de Lótus Hidrofóbica\n– Amor à Primeira Vista\n– A Menina e a Árvore\n– Super Cientistas – Origens\n– Você Acreditaria?\n– +Forte\n– Canela de Ema – O Mistério dos Muiraquitãs
URL:https://cauim.org/es/evento/science-film-festival-sessao-de-curtas-14h30/
LOCATION:São Paulo
CATEGORIES:Filmes
END:VEVENT
BEGIN:VEVENT
DTSTART;TZID=America/Sao_Paulo:20251025T163000
DTEND;TZID=America/Sao_Paulo:20251025T163000
DTSTAMP:20260419T193925
CREATED:20251017T100739Z
LAST-MODIFIED:20251017T100739Z
UID:9888-1761409800-1761409800@cauim.org
SUMMARY:Science Film Festival – Sessão de Curtas (16h30)
DESCRIPTION:Science Film Festival – Programação de curtas:- Casa dos Pequenos Cientistas – Folha de Lótus Hidrofóbica\n– Amor à Primeira Vista\n– A Menina e a Árvore\n– Super Cientistas – Origens\n– Você Acreditaria?\n– +Forte\n– Canela de Ema – O Mistério dos Muiraquitãs
URL:https://cauim.org/es/evento/science-film-festival-sessao-de-curtas-16h30/
LOCATION:São Paulo
CATEGORIES:Filmes
END:VEVENT
BEGIN:VEVENT
DTSTART;TZID=America/Sao_Paulo:20251026T143000
DTEND;TZID=America/Sao_Paulo:20251026T143000
DTSTAMP:20260419T193925
CREATED:20251017T100742Z
LAST-MODIFIED:20251017T100742Z
UID:9890-1761489000-1761489000@cauim.org
SUMMARY:Science Film Festival – Sessão de Curtas (14h30)
DESCRIPTION:Science Film Festival – Programação de curtas:- Casa dos Pequenos Cientistas – Folha de Lótus Hidrofóbica\n– Amor à Primeira Vista\n– A Menina e a Árvore\n– Super Cientistas – Origens\n– Você Acreditaria?\n– +Forte\n– Canela de Ema – O Mistério dos Muiraquitãs
URL:https://cauim.org/es/evento/science-film-festival-sessao-de-curtas-14h30-2/
LOCATION:São Paulo
CATEGORIES:Filmes
END:VEVENT
BEGIN:VEVENT
DTSTART;TZID=America/Sao_Paulo:20251026T163000
DTEND;TZID=America/Sao_Paulo:20251026T163000
DTSTAMP:20260419T193925
CREATED:20251017T100742Z
LAST-MODIFIED:20251017T100742Z
UID:9892-1761496200-1761496200@cauim.org
SUMMARY:Science Film Festival – Sessão de Curtas (16h30)
DESCRIPTION:Science Film Festival – Programação de curtas:- Casa dos Pequenos Cientistas – Folha de Lótus Hidrofóbica\n– Amor à Primeira Vista\n– A Menina e a Árvore\n– Super Cientistas – Origens\n– Você Acreditaria?\n– +Forte\n– Canela de Ema – O Mistério dos Muiraquitãs
URL:https://cauim.org/es/evento/science-film-festival-sessao-de-curtas-16h30-2/
LOCATION:São Paulo
CATEGORIES:Filmes
END:VEVENT
BEGIN:VEVENT
DTSTART;TZID=America/Sao_Paulo:20251028T192000
DTEND;TZID=America/Sao_Paulo:20251028T192000
DTSTAMP:20260419T193925
CREATED:20251025T141703Z
LAST-MODIFIED:20251025T143522Z
UID:10021-1761679200-1761679200@cauim.org
SUMMARY:Dia Internacional da Animação – Mostra de Curtas
DESCRIPTION:Mostra especial de curtas de animação em comemoração ao Dia Internacional da Animação. Uma celebração da criatividade e diversidade da animação brasileira e internacional.
URL:https://cauim.org/es/evento/dia-internacional-da-animacao-mostra-de-curtas/
LOCATION:São Paulo
CATEGORIES:Filmes
ATTACH;FMTTYPE=image/png:https://cauim.org/wp-content/uploads/2025/10/Screenshot-2025-10-25-at-11.33.10.png
END:VEVENT
END:VCALENDAR