BEGIN:VCALENDAR
VERSION:2.0
PRODID:-//Cine Clube Cauim - ECPv6.2.8.1//NONSGML v1.0//EN
CALSCALE:GREGORIAN
METHOD:PUBLISH
X-ORIGINAL-URL:https://cauim.org/es
X-WR-CALDESC:Events for Cine Clube Cauim
REFRESH-INTERVAL;VALUE=DURATION:PT1H
X-Robots-Tag:noindex
X-PUBLISHED-TTL:PT1H
BEGIN:VTIMEZONE
TZID:America/Sao_Paulo
BEGIN:STANDARD
TZOFFSETFROM:-0300
TZOFFSETTO:-0300
TZNAME:-03
DTSTART:20250101T000000
END:STANDARD
END:VTIMEZONE
BEGIN:VEVENT
DTSTART;TZID=America/Sao_Paulo:20251122T100000
DTEND;TZID=America/Sao_Paulo:20251122T100000
DTSTAMP:20260424T082219
CREATED:20251009T140951Z
LAST-MODIFIED:20251009T140951Z
UID:9813-1763805600-1763805600@cauim.org
SUMMARY:Workshop – Técnica Vocal (Tamara Pereira)
DESCRIPTION:Workshop de técnica vocal com Tamara Pereira.
URL:https://cauim.org/es/evento/workshop-tecnica-vocal-tamara-pereira/
LOCATION:São Paulo
CATEGORIES:Ensaios
END:VEVENT
BEGIN:VEVENT
DTSTART;TZID=America/Sao_Paulo:20251122T110000
DTEND;TZID=America/Sao_Paulo:20251122T120000
DTSTAMP:20260424T082219
CREATED:20251108T203616Z
LAST-MODIFIED:20251113T183820Z
UID:10244-1763809200-1763812800@cauim.org
SUMMARY:Ensaio Aberto com Márcio Coelho e Ana Favaretto
DESCRIPTION:Dia 15/11\, das 11h às 12h\, no Cineclube CAUIM durante a Feira da Agricultura Familiar\, promovida pelo MST de Ribeirão Preto.
URL:https://cauim.org/es/evento/ensaio-aberto-com-marcio-coelho-e-ana-favaretto/
LOCATION:Cineclube Cauim\, R. Olavo Bilac\, 135\, Vila Seixas\, Ribeirão Preto - SP\, São Paulo\, 14020-020\, Brasil
CATEGORIES:Feira Sábado
ATTACH;FMTTYPE=image/jpeg:https://cauim.org/wp-content/uploads/2025/11/ensaio-aberto.jpg
END:VEVENT
BEGIN:VEVENT
DTSTART;TZID=America/Sao_Paulo:20251122T150000
DTEND;TZID=America/Sao_Paulo:20251122T150000
DTSTAMP:20260424T082219
CREATED:20251009T140951Z
LAST-MODIFIED:20251009T140951Z
UID:9814-1763823600-1763823600@cauim.org
SUMMARY:Ensaio – Coro Cênico Municipal de Jundiaí
DESCRIPTION:Ensaio do Coro Cênico Municipal de Jundiaí.
URL:https://cauim.org/es/evento/ensaio-coro-cenico-municipal-de-jundiai/
LOCATION:São Paulo
CATEGORIES:Ensaios
END:VEVENT
BEGIN:VEVENT
DTSTART;TZID=America/Sao_Paulo:20251122T200000
DTEND;TZID=America/Sao_Paulo:20251122T200000
DTSTAMP:20260424T082219
CREATED:20251009T140951Z
LAST-MODIFIED:20251009T140951Z
UID:9815-1763841600-1763841600@cauim.org
SUMMARY:Apresentação – Coro Cênico Municipal de Jundiaí
DESCRIPTION:Apresentação do Coro Cênico Municipal de Jundiaí.
URL:https://cauim.org/es/evento/apresentacao-coro-cenico-municipal-de-jundiai/
LOCATION:São Paulo
CATEGORIES:Ensaios
END:VEVENT
END:VCALENDAR