BEGIN:VCALENDAR
VERSION:2.0
PRODID:-//Cine Clube Cauim - ECPv6.2.8.1//NONSGML v1.0//EN
CALSCALE:GREGORIAN
METHOD:PUBLISH
X-WR-CALNAME:Cine Clube Cauim
X-ORIGINAL-URL:https://cauim.org/en
X-WR-CALDESC:Events for Cine Clube Cauim
REFRESH-INTERVAL;VALUE=DURATION:PT1H
X-Robots-Tag:noindex
X-PUBLISHED-TTL:PT1H
BEGIN:VTIMEZONE
TZID:America/Sao_Paulo
BEGIN:STANDARD
TZOFFSETFROM:-0300
TZOFFSETTO:-0300
TZNAME:-03
DTSTART:20250101T000000
END:STANDARD
END:VTIMEZONE
BEGIN:VEVENT
DTSTART;TZID=America/Sao_Paulo:20251203T210000
DTEND;TZID=America/Sao_Paulo:20251203T210000
DTSTAMP:20260424T121640
CREATED:20251114T014311Z
LAST-MODIFIED:20251114T014311Z
UID:10686-1764795600-1764795600@cauim.org
SUMMARY:Fanon (Fanon 2025)
DESCRIPTION:Direcao: Jean Claude BarnyElenco: Alexandre Bouyer / Deborah Francois / Stanislas MerharResumo: Biografia de Frantz Fanon medico psiquiatra em hospital argelino em meio a guerra e a luta anticolonial.
URL:https://cauim.org/en/evento/fanon-fanon-2025/
LOCATION:Cineclube Cauim\, R. Olavo Bilac\, 135\, Vila Seixas\, Ribeirão Preto - SP\, São Paulo\, 14020-020\, Brasil
CATEGORIES:Festival de Cinema Francês,Filmes
END:VEVENT
BEGIN:VEVENT
DTSTART;TZID=America/Sao_Paulo:20251203T190000
DTEND;TZID=America/Sao_Paulo:20251203T190000
DTSTAMP:20260424T121640
CREATED:20251114T014257Z
LAST-MODIFIED:20251114T014257Z
UID:10685-1764788400-1764788400@cauim.org
SUMMARY:Sonho Logo Existo (L Homme Qui a Vu l Ours Qui a Vu l Homme 2025)
DESCRIPTION:Direcao: Pierre RichardElenco: Pierre Richard / Timi Joy Marbot / Gustave KervernResumo: Dois amigos de geracoes diferentes compartilham amor pela natureza e por um urso fugitivo de circo.
URL:https://cauim.org/en/evento/sonho-logo-existo-l-homme-qui-a-vu-l-ours-qui-a-vu-l-homme-2025/
LOCATION:Cineclube Cauim\, R. Olavo Bilac\, 135\, Vila Seixas\, Ribeirão Preto - SP\, São Paulo\, 14020-020\, Brasil
CATEGORIES:Festival de Cinema Francês,Filmes
END:VEVENT
BEGIN:VEVENT
DTSTART;TZID=America/Sao_Paulo:20251203T163000
DTEND;TZID=America/Sao_Paulo:20251203T163000
DTSTAMP:20260424T121640
CREATED:20251114T014257Z
LAST-MODIFIED:20251114T014257Z
UID:10684-1764779400-1764779400@cauim.org
SUMMARY:A Cabra (La Chevre 1981)
DESCRIPTION:Direcao: Francis VeberElenco: Pierre Richard / Gerard Depardieu / Pedro Armendariz JrResumo: Detetive serio e parceiro desastrado viajam ao Mexico para encontrar filha azarada de um grande executivo.
URL:https://cauim.org/en/evento/a-cabra-la-chevre-1981/
LOCATION:Cineclube Cauim\, R. Olavo Bilac\, 135\, Vila Seixas\, Ribeirão Preto - SP\, São Paulo\, 14020-020\, Brasil
CATEGORIES:Festival de Cinema Francês,Filmes
END:VEVENT
BEGIN:VEVENT
DTSTART;TZID=America/Sao_Paulo:20251202T210000
DTEND;TZID=America/Sao_Paulo:20251202T210000
DTSTAMP:20260424T121640
CREATED:20251114T014256Z
LAST-MODIFIED:20251114T014256Z
UID:10683-1764709200-1764709200@cauim.org
SUMMARY:O Segredo da Chefe (Partir Un Jour 2025)
DESCRIPTION:Direcao: Amelie BoninElenco: Bastien Bouillon / Juliette ArmanetResumo: Chef francesa volta a cidade natal apos doenca do pai e reencontra antigo amor repensando sonhos e escolhas.
URL:https://cauim.org/en/evento/o-segredo-da-chefe-partir-un-jour-2025/
LOCATION:Cineclube Cauim\, R. Olavo Bilac\, 135\, Vila Seixas\, Ribeirão Preto - SP\, São Paulo\, 14020-020\, Brasil
CATEGORIES:Festival de Cinema Francês,Filmes
END:VEVENT
BEGIN:VEVENT
DTSTART;TZID=America/Sao_Paulo:20251202T190000
DTEND;TZID=America/Sao_Paulo:20251202T190000
DTSTAMP:20260424T121640
CREATED:20251114T014256Z
LAST-MODIFIED:20251114T014256Z
UID:10682-1764702000-1764702000@cauim.org
SUMMARY:O Apego (L Attachement 2025)
DESCRIPTION:Direcao: Carine TardieuElenco: Valeria Bruni Tedeschi / Pio Marmai / Vimala PonsResumo: Sandra independente se ve ligada a vizinho e seus filhos e descobre um novo tipo de familia afetiva.
URL:https://cauim.org/en/evento/o-apego-l-attachement-2025-2/
LOCATION:Cineclube Cauim\, R. Olavo Bilac\, 135\, Vila Seixas\, Ribeirão Preto - SP\, São Paulo\, 14020-020\, Brasil
CATEGORIES:Festival de Cinema Francês,Filmes
END:VEVENT
BEGIN:VEVENT
DTSTART;TZID=America/Sao_Paulo:20251202T163000
DTEND;TZID=America/Sao_Paulo:20251202T163000
DTSTAMP:20260424T121640
CREATED:20251114T014256Z
LAST-MODIFIED:20251114T014256Z
UID:10681-1764693000-1764693000@cauim.org
SUMMARY:A Mulher Mais Rica do Mundo (La Femme la Plus Riche du Monde 2025)
DESCRIPTION:Direcao: Thierry KliffaElenco: Isabelle Huppert / Marina Fois / Laurent LafitteResumo: Romance e intrigas cercam uma herdeira desconfiada um escritor fotografo ambicioso e segredos de familia.
URL:https://cauim.org/en/evento/a-mulher-mais-rica-do-mundo-la-femme-la-plus-riche-du-monde-2025-2/
LOCATION:Cineclube Cauim\, R. Olavo Bilac\, 135\, Vila Seixas\, Ribeirão Preto - SP\, São Paulo\, 14020-020\, Brasil
CATEGORIES:Festival de Cinema Francês,Filmes
END:VEVENT
BEGIN:VEVENT
DTSTART;TZID=America/Sao_Paulo:20251201T210000
DTEND;TZID=America/Sao_Paulo:20251201T210000
DTSTAMP:20260424T121640
CREATED:20251114T014056Z
LAST-MODIFIED:20251114T014056Z
UID:10680-1764622800-1764622800@cauim.org
SUMMARY:Eu Que Te Amei (Moi Qui T Aimais 2025)
DESCRIPTION:Direcao: Diane KurysElenco: Marine Fois / Rochdy ZemResumo: Retrato da relacao entre Simone Signoret e Yves Montand marcada por amores paralelos mas unida para sempre.
URL:https://cauim.org/en/evento/eu-que-te-amei-moi-qui-t-aimais-2025-2/
LOCATION:Cineclube Cauim\, R. Olavo Bilac\, 135\, Vila Seixas\, Ribeirão Preto - SP\, São Paulo\, 14020-020\, Brasil
CATEGORIES:Festival de Cinema Francês,Filmes
END:VEVENT
BEGIN:VEVENT
DTSTART;TZID=America/Sao_Paulo:20251201T190000
DTEND;TZID=America/Sao_Paulo:20251201T190000
DTSTAMP:20260424T121640
CREATED:20251114T014056Z
LAST-MODIFIED:20251114T014056Z
UID:10679-1764615600-1764615600@cauim.org
SUMMARY:Amor nos Bastidores (Le Beau Role 2025)
DESCRIPTION:Direcao: Victor RodenbachElenco: William Lebghil / Vimala PonsResumo: Casal de artistas entra em crise quando ele consegue papel no cinema e a dinamica de criacao conjunta desaba.
URL:https://cauim.org/en/evento/amor-nos-bastidores-le-beau-role-2025/
LOCATION:Cineclube Cauim\, R. Olavo Bilac\, 135\, Vila Seixas\, Ribeirão Preto - SP\, São Paulo\, 14020-020\, Brasil
CATEGORIES:Festival de Cinema Francês,Filmes
END:VEVENT
BEGIN:VEVENT
DTSTART;TZID=America/Sao_Paulo:20251201T163000
DTEND;TZID=America/Sao_Paulo:20251201T163000
DTSTAMP:20260424T121640
CREATED:20251114T014055Z
LAST-MODIFIED:20251114T014055Z
UID:10678-1764606600-1764606600@cauim.org
SUMMARY:Jovens Maes (Jeunes Meres 2025)
DESCRIPTION:Direcao: Jean Pierre e Luc DardenneElenco: Babette Verbeek / Elsa Houben / Janaina Halloy FokanResumo: Cinco adolescentes tentam reconstruir a vida em uma casa materna buscando futuro melhor para si e para os filhos.
URL:https://cauim.org/en/evento/jovens-maes-jeunes-meres-2025/
LOCATION:Cineclube Cauim\, R. Olavo Bilac\, 135\, Vila Seixas\, Ribeirão Preto - SP\, São Paulo\, 14020-020\, Brasil
CATEGORIES:Festival de Cinema Francês,Filmes
END:VEVENT
BEGIN:VEVENT
DTSTART;TZID=America/Sao_Paulo:20251130T173000
DTEND;TZID=America/Sao_Paulo:20251130T173000
DTSTAMP:20260424T121640
CREATED:20251114T014055Z
LAST-MODIFIED:20251114T014055Z
UID:10677-1764523800-1764523800@cauim.org
SUMMARY:Voz de Aluguel (Le Répondeur 2025)
DESCRIPTION:Direcao: Fabienne GodetElenco: Salif Cisse / Denis Podalydes / Aure AtikaResumo: Baptiste imitador talentoso torna se atendendor de chamadas de um romancista em busca de silencio para escrever.
URL:https://cauim.org/en/evento/voz-de-aluguel-le-repondeur-2025-2/
LOCATION:Cineclube Cauim\, R. Olavo Bilac\, 135\, Vila Seixas\, Ribeirão Preto - SP\, São Paulo\, 14020-020\, Brasil
CATEGORIES:Festival de Cinema Francês,Filmes
END:VEVENT
BEGIN:VEVENT
DTSTART;TZID=America/Sao_Paulo:20251130T173000
DTEND;TZID=America/Sao_Paulo:20251130T173000
DTSTAMP:20260424T121640
CREATED:20251114T014055Z
LAST-MODIFIED:20251114T014055Z
UID:10676-1764523800-1764523800@cauim.org
SUMMARY:13 Dias 13 Noites (13 Jours 13 Nuits 2025)
DESCRIPTION:Direcao: Martin BourboulonElenco: Roschdy Zem / Lyna Khoudri / Sidse Babett KnudsenResumo: Em Cabul em agosto de 2021 comandante frances organiza comboio de evacuacao com ajuda de humanitaria franco afega.
URL:https://cauim.org/en/evento/13-dias-13-noites-13-jours-13-nuits-2025-2/
LOCATION:Cineclube Cauim\, R. Olavo Bilac\, 135\, Vila Seixas\, Ribeirão Preto - SP\, São Paulo\, 14020-020\, Brasil
CATEGORIES:Festival de Cinema Francês,Filmes
END:VEVENT
BEGIN:VEVENT
DTSTART;TZID=America/Sao_Paulo:20251130T150000
DTEND;TZID=America/Sao_Paulo:20251130T150000
DTSTAMP:20260424T121640
CREATED:20251114T014040Z
LAST-MODIFIED:20251114T014040Z
UID:10675-1764514800-1764514800@cauim.org
SUMMARY:Maos a Obra (A Pied d Oeuvre 2025)
DESCRIPTION:Direcao: Valerie DonzelliElenco: Bastien Bouillon / Virginie Ledoyen / Marie RiviereResumo: Fotografo bem sucedido abandona a carreira para escrever e se confronta com a pobreza e com novos valores.
URL:https://cauim.org/en/evento/maos-a-obra-a-pied-d-oeuvre-2025/
LOCATION:Cineclube Cauim\, R. Olavo Bilac\, 135\, Vila Seixas\, Ribeirão Preto - SP\, São Paulo\, 14020-020\, Brasil
CATEGORIES:Festival de Cinema Francês,Filmes
END:VEVENT
BEGIN:VEVENT
DTSTART;TZID=America/Sao_Paulo:20251129T193000
DTEND;TZID=America/Sao_Paulo:20251129T193000
DTSTAMP:20260424T121640
CREATED:20251114T014040Z
LAST-MODIFIED:20251114T014040Z
UID:10674-1764444600-1764444600@cauim.org
SUMMARY:Mercato Os Donos da Bola (Mercato 2025)
DESCRIPTION:Direcao: Tristan SeguelaElenco: Jamel Debbouze / Monia Chokri / Hakim JemiliResumo: Empresario de jogadores tem poucos dias para fechar negocios e salvar a propria pele no mercado do futebol.
URL:https://cauim.org/en/evento/mercato-os-donos-da-bola-mercato-2025/
LOCATION:Cineclube Cauim\, R. Olavo Bilac\, 135\, Vila Seixas\, Ribeirão Preto - SP\, São Paulo\, 14020-020\, Brasil
CATEGORIES:Festival de Cinema Francês,Filmes
END:VEVENT
BEGIN:VEVENT
DTSTART;TZID=America/Sao_Paulo:20251129T173000
DTEND;TZID=America/Sao_Paulo:20251129T173000
DTSTAMP:20260424T121640
CREATED:20251114T014040Z
LAST-MODIFIED:20251114T014040Z
UID:10673-1764437400-1764437400@cauim.org
SUMMARY:A Mulher Mais Rica do Mundo (La Femme la Plus Riche du Monde 2025)
DESCRIPTION:Direcao: Thierry KliffaElenco: Isabelle Huppert / Marina Fois / Laurent LafitteResumo: Romance e intrigas cercam uma herdeira desconfiada um escritor fotografo ambicioso e segredos de familia.
URL:https://cauim.org/en/evento/a-mulher-mais-rica-do-mundo-la-femme-la-plus-riche-du-monde-2025/
LOCATION:Cineclube Cauim\, R. Olavo Bilac\, 135\, Vila Seixas\, Ribeirão Preto - SP\, São Paulo\, 14020-020\, Brasil
CATEGORIES:Festival de Cinema Francês,Filmes
END:VEVENT
BEGIN:VEVENT
DTSTART;TZID=America/Sao_Paulo:20251129T150000
DTEND;TZID=America/Sao_Paulo:20251129T150000
DTSTAMP:20260424T121640
CREATED:20251114T014040Z
LAST-MODIFIED:20251114T014040Z
UID:10672-1764428400-1764428400@cauim.org
SUMMARY:Jornada de Bicicleta (A Bicyclette 2025)
DESCRIPTION:Direcao: Mathias MlekuzElenco: Mathias Mlekuz / Philippe Rebbot / Josef MlekuzResumo: Amigos refazem de bicicleta a viagem interrompida do filho de um deles e enfrentam luto com humor e emocao.
URL:https://cauim.org/en/evento/jornada-de-bicicleta-a-bicyclette-2025/
LOCATION:Cineclube Cauim\, R. Olavo Bilac\, 135\, Vila Seixas\, Ribeirão Preto - SP\, São Paulo\, 14020-020\, Brasil
CATEGORIES:Festival de Cinema Francês,Filmes
END:VEVENT
BEGIN:VEVENT
DTSTART;TZID=America/Sao_Paulo:20251128T210000
DTEND;TZID=America/Sao_Paulo:20251128T210000
DTSTAMP:20260424T121640
CREATED:20251114T014040Z
LAST-MODIFIED:20251114T014040Z
UID:10671-1764363600-1764363600@cauim.org
SUMMARY:Sem Control (Dis Moi Juste Que Tu M Aimes 2025)
DESCRIPTION:Direcao: Anne Le NyElenco: Omar Sy / Elodie Bouchez / Vanessa Paradis / Jose GarciaResumo: Crise de casamento leva Marie a um triangulo perigoso que transforma o romance em caso policial.
URL:https://cauim.org/en/evento/sem-control-dis-moi-juste-que-tu-m-aimes-2025/
LOCATION:Cineclube Cauim\, R. Olavo Bilac\, 135\, Vila Seixas\, Ribeirão Preto - SP\, São Paulo\, 14020-020\, Brasil
CATEGORIES:Festival de Cinema Francês,Filmes
END:VEVENT
BEGIN:VEVENT
DTSTART;TZID=America/Sao_Paulo:20251128T190000
DTEND;TZID=America/Sao_Paulo:20251128T190000
DTSTAMP:20260424T121640
CREATED:20251114T014038Z
LAST-MODIFIED:20251114T014038Z
UID:10670-1764356400-1764356400@cauim.org
SUMMARY:Era Uma Vez Minha Mae (Ma Mere Dieu et Sylvie Vartan 2025)
DESCRIPTION:Direcao: Ken ScottElenco: Leila Bekhti / Jonathan Cohen / Sylvie VartanResumo: Esther promete ao filho com pe torto uma vida plena e luta a vida inteira para cumprir essa promessa.
URL:https://cauim.org/en/evento/era-uma-vez-minha-mae-ma-mere-dieu-et-sylvie-vartan-2025/
LOCATION:Cineclube Cauim\, R. Olavo Bilac\, 135\, Vila Seixas\, Ribeirão Preto - SP\, São Paulo\, 14020-020\, Brasil
CATEGORIES:Festival de Cinema Francês,Filmes
END:VEVENT
BEGIN:VEVENT
DTSTART;TZID=America/Sao_Paulo:20251128T163000
DTEND;TZID=America/Sao_Paulo:20251128T163000
DTSTAMP:20260424T121640
CREATED:20251114T014037Z
LAST-MODIFIED:20251114T014037Z
UID:10669-1764347400-1764347400@cauim.org
SUMMARY:Eu Que Te Amei (Moi Qui T Aimais 2025)
DESCRIPTION:Direcao: Diane KurysElenco: Marine Fois / Rochdy ZemResumo: Retrato da relacao entre Simone Signoret e Yves Montand marcada por amores paralelos mas unida para sempre.
URL:https://cauim.org/en/evento/eu-que-te-amei-moi-qui-t-aimais-2025/
LOCATION:Cineclube Cauim\, R. Olavo Bilac\, 135\, Vila Seixas\, Ribeirão Preto - SP\, São Paulo\, 14020-020\, Brasil
CATEGORIES:Festival de Cinema Francês,Filmes
END:VEVENT
BEGIN:VEVENT
DTSTART;TZID=America/Sao_Paulo:20251127T210000
DTEND;TZID=America/Sao_Paulo:20251127T210000
DTSTAMP:20260424T121640
CREATED:20251114T014036Z
LAST-MODIFIED:20251114T014036Z
UID:10668-1764277200-1764277200@cauim.org
SUMMARY:O Apego (L Attachement 2025)
DESCRIPTION:Direcao: Carine TardieuElenco: Valeria Bruni Tedeschi / Pio Marmai / Vimala PonsResumo: Sandra independente se ve ligada a vizinho e seus filhos e descobre um novo tipo de familia afetiva.
URL:https://cauim.org/en/evento/o-apego-l-attachement-2025/
LOCATION:Cineclube Cauim\, R. Olavo Bilac\, 135\, Vila Seixas\, Ribeirão Preto - SP\, São Paulo\, 14020-020\, Brasil
CATEGORIES:Festival de Cinema Francês,Filmes
END:VEVENT
BEGIN:VEVENT
DTSTART;TZID=America/Sao_Paulo:20251127T190000
DTEND;TZID=America/Sao_Paulo:20251127T190000
DTSTAMP:20260424T121640
CREATED:20251114T014035Z
LAST-MODIFIED:20251114T014035Z
UID:10667-1764270000-1764270000@cauim.org
SUMMARY:13 Dias 13 Noites (13 Jours 13 Nuits 2025)
DESCRIPTION:Direcao: Martin BourboulonElenco: Roschdy Zem / Lyna Khoudri / Sidse Babett KnudsenResumo: Em Cabul em agosto de 2021 comandante frances organiza comboio de evacuacao com ajuda de humanitaria franco afega.
URL:https://cauim.org/en/evento/13-dias-13-noites-13-jours-13-nuits-2025/
LOCATION:Cineclube Cauim\, R. Olavo Bilac\, 135\, Vila Seixas\, Ribeirão Preto - SP\, São Paulo\, 14020-020\, Brasil
CATEGORIES:Festival de Cinema Francês,Filmes
END:VEVENT
BEGIN:VEVENT
DTSTART;TZID=America/Sao_Paulo:20251127T163000
DTEND;TZID=America/Sao_Paulo:20251127T163000
DTSTAMP:20260424T121640
CREATED:20251114T014034Z
LAST-MODIFIED:20251114T014034Z
UID:10666-1764261000-1764261000@cauim.org
SUMMARY:Voz de Aluguel (Le Répondeur 2025)
DESCRIPTION:Direcao: Fabienne GodetElenco: Salif Cisse / Denis Podalydes / Aure AtikaResumo: Baptiste imitador talentoso torna se atendendor de chamadas de um romancista em busca de silencio para escrever.
URL:https://cauim.org/en/evento/voz-de-aluguel-le-repondeur-2025/
LOCATION:Cineclube Cauim\, R. Olavo Bilac\, 135\, Vila Seixas\, Ribeirão Preto - SP\, São Paulo\, 14020-020\, Brasil
CATEGORIES:Festival de Cinema Francês,Filmes
END:VEVENT
BEGIN:VEVENT
DTSTART;TZID=America/Sao_Paulo:20251123T000000
DTEND;TZID=America/Sao_Paulo:20251123T000000
DTSTAMP:20260424T121640
CREATED:20251009T141006Z
LAST-MODIFIED:20251009T141006Z
UID:9816-1763856000-1763856000@cauim.org
SUMMARY:VIII Encontro – Mostra de Cinema e Música
DESCRIPTION:Mostra de Cinema e Música – sessões durante todo o dia.
URL:https://cauim.org/en/evento/viii-encontro-mostra-de-cinema-e-musica-4/
CATEGORIES:Filmes
END:VEVENT
BEGIN:VEVENT
DTSTART;TZID=America/Sao_Paulo:20251122T200000
DTEND;TZID=America/Sao_Paulo:20251122T200000
DTSTAMP:20260424T121640
CREATED:20251009T140951Z
LAST-MODIFIED:20251009T140951Z
UID:9815-1763841600-1763841600@cauim.org
SUMMARY:Apresentação – Coro Cênico Municipal de Jundiaí
DESCRIPTION:Apresentação do Coro Cênico Municipal de Jundiaí.
URL:https://cauim.org/en/evento/apresentacao-coro-cenico-municipal-de-jundiai/
CATEGORIES:Ensaios
END:VEVENT
BEGIN:VEVENT
DTSTART;TZID=America/Sao_Paulo:20251122T150000
DTEND;TZID=America/Sao_Paulo:20251122T150000
DTSTAMP:20260424T121640
CREATED:20251009T140951Z
LAST-MODIFIED:20251009T140951Z
UID:9814-1763823600-1763823600@cauim.org
SUMMARY:Ensaio – Coro Cênico Municipal de Jundiaí
DESCRIPTION:Ensaio do Coro Cênico Municipal de Jundiaí.
URL:https://cauim.org/en/evento/ensaio-coro-cenico-municipal-de-jundiai/
CATEGORIES:Ensaios
END:VEVENT
BEGIN:VEVENT
DTSTART;TZID=America/Sao_Paulo:20251122T110000
DTEND;TZID=America/Sao_Paulo:20251122T120000
DTSTAMP:20260424T121640
CREATED:20251108T203616Z
LAST-MODIFIED:20251113T183820Z
UID:10244-1763809200-1763812800@cauim.org
SUMMARY:Ensaio Aberto com Márcio Coelho e Ana Favaretto
DESCRIPTION:Dia 15/11\, das 11h às 12h\, no Cineclube CAUIM durante a Feira da Agricultura Familiar\, promovida pelo MST de Ribeirão Preto.
URL:https://cauim.org/en/evento/ensaio-aberto-com-marcio-coelho-e-ana-favaretto/
LOCATION:Cineclube Cauim\, R. Olavo Bilac\, 135\, Vila Seixas\, Ribeirão Preto - SP\, São Paulo\, 14020-020\, Brasil
CATEGORIES:Feira Sábado
ATTACH;FMTTYPE=image/jpeg:https://cauim.org/wp-content/uploads/2025/11/ensaio-aberto.jpg
END:VEVENT
BEGIN:VEVENT
DTSTART;TZID=America/Sao_Paulo:20251122T100000
DTEND;TZID=America/Sao_Paulo:20251122T100000
DTSTAMP:20260424T121640
CREATED:20251009T140951Z
LAST-MODIFIED:20251009T140951Z
UID:9813-1763805600-1763805600@cauim.org
SUMMARY:Workshop – Técnica Vocal (Tamara Pereira)
DESCRIPTION:Workshop de técnica vocal com Tamara Pereira.
URL:https://cauim.org/en/evento/workshop-tecnica-vocal-tamara-pereira/
CATEGORIES:Ensaios
END:VEVENT
BEGIN:VEVENT
DTSTART;TZID=America/Sao_Paulo:20251122T000000
DTEND;TZID=America/Sao_Paulo:20251122T000000
DTSTAMP:20260424T121640
CREATED:20251009T140951Z
LAST-MODIFIED:20251009T140951Z
UID:9812-1763769600-1763769600@cauim.org
SUMMARY:VIII Encontro – Mostra de Cinema e Música
DESCRIPTION:Mostra de Cinema e Música – sessões durante o dia.
URL:https://cauim.org/en/evento/viii-encontro-mostra-de-cinema-e-musica-3/
CATEGORIES:Filmes
END:VEVENT
BEGIN:VEVENT
DTSTART;TZID=America/Sao_Paulo:20251121T203000
DTEND;TZID=America/Sao_Paulo:20251121T203000
DTSTAMP:20260424T121640
CREATED:20251009T140951Z
LAST-MODIFIED:20251009T140951Z
UID:9811-1763757000-1763757000@cauim.org
SUMMARY:Apresentação – Coro Cênico Bossa Nossa
DESCRIPTION:Apresentação do Coro Cênico Bossa Nossa.
URL:https://cauim.org/en/evento/apresentacao-coro-cenico-bossa-nossa/
CATEGORIES:Ensaios
END:VEVENT
BEGIN:VEVENT
DTSTART;TZID=America/Sao_Paulo:20251121T150000
DTEND;TZID=America/Sao_Paulo:20251121T150000
DTSTAMP:20260424T121640
CREATED:20251009T140936Z
LAST-MODIFIED:20251009T140936Z
UID:9810-1763737200-1763737200@cauim.org
SUMMARY:Ensaio – Coro Cênico Bossa Nossa
DESCRIPTION:Ensaio do Coro Cênico Bossa Nossa.
URL:https://cauim.org/en/evento/ensaio-coro-cenico-bossa-nossa/
CATEGORIES:Ensaios
END:VEVENT
BEGIN:VEVENT
DTSTART;TZID=America/Sao_Paulo:20251121T100000
DTEND;TZID=America/Sao_Paulo:20251121T100000
DTSTAMP:20260424T121640
CREATED:20251009T140936Z
LAST-MODIFIED:20251009T140936Z
UID:9809-1763719200-1763719200@cauim.org
SUMMARY:Workshop – Debate entre Dirigentes de Coros Cênicos
DESCRIPTION:Debate entre dirigentes de Coros Cênicos.
URL:https://cauim.org/en/evento/workshop-debate-entre-dirigentes-de-coros-cenicos/
CATEGORIES:Encontros com a Cidadania
END:VEVENT
END:VCALENDAR