BEGIN:VCALENDAR
VERSION:2.0
PRODID:-//Cine Clube Cauim - ECPv6.2.8.1//NONSGML v1.0//EN
CALSCALE:GREGORIAN
METHOD:PUBLISH
X-WR-CALNAME:Cine Clube Cauim
X-ORIGINAL-URL:https://cauim.org/en
X-WR-CALDESC:Events for Cine Clube Cauim
REFRESH-INTERVAL;VALUE=DURATION:PT1H
X-Robots-Tag:noindex
X-PUBLISHED-TTL:PT1H
BEGIN:VTIMEZONE
TZID:America/Sao_Paulo
BEGIN:STANDARD
TZOFFSETFROM:-0300
TZOFFSETTO:-0300
TZNAME:-03
DTSTART:20250101T000000
END:STANDARD
END:VTIMEZONE
BEGIN:VEVENT
DTSTART;TZID=America/Sao_Paulo:20251023T183000
DTEND;TZID=America/Sao_Paulo:20251023T183000
DTSTAMP:20260424T195728
CREATED:20251017T100757Z
LAST-MODIFIED:20251017T100757Z
UID:9896-1761244200-1761244200@cauim.org
SUMMARY:Cinema & Cidadania – Sessão 18h30
DESCRIPTION:• Dadá (2000) – Dir.: Eduardo Vaisman. Três amigos e um segredo.
URL:https://cauim.org/en/evento/cinema-cidadania-sessao-18h30-4/
CATEGORIES:Cinema & Cidadania
END:VEVENT
BEGIN:VEVENT
DTSTART;TZID=America/Sao_Paulo:20251023T170000
DTEND;TZID=America/Sao_Paulo:20251023T170000
DTSTAMP:20260424T195728
CREATED:20251017T100812Z
LAST-MODIFIED:20251017T100812Z
UID:9901-1761238800-1761238800@cauim.org
SUMMARY:Cinema & Literatura – Sessão 17h
DESCRIPTION:• Uma Visita de Alcibíades (2009) – Dir.: Octávio Bezerra. Livre adaptação de Machado de Assis.
URL:https://cauim.org/en/evento/cinema-literatura-sessao-17h-4/
CATEGORIES:Cinema & Literatura
END:VEVENT
BEGIN:VEVENT
DTSTART;TZID=America/Sao_Paulo:20251022T183000
DTEND;TZID=America/Sao_Paulo:20251022T183000
DTSTAMP:20260424T195728
CREATED:20251017T100757Z
LAST-MODIFIED:20251017T100757Z
UID:9895-1761157800-1761157800@cauim.org
SUMMARY:Cinema & Cidadania – Sessão 18h30
DESCRIPTION:• Amazonas\, Amazonas (1966) – Dir.: Glauber Rocha. Amazônia: beleza\, riqueza e exploração.• Cidadão Jatobá (1987) – Dir.: Maria Luiza Aboim. Jovens indígenas constroem a canoa tradicional.
URL:https://cauim.org/en/evento/cinema-cidadania-sessao-18h30-3/
CATEGORIES:Cinema & Cidadania
END:VEVENT
BEGIN:VEVENT
DTSTART;TZID=America/Sao_Paulo:20251022T180000
DTEND;TZID=America/Sao_Paulo:20251022T220000
DTSTAMP:20260424T195728
CREATED:20250926T114558Z
LAST-MODIFIED:20250926T114702Z
UID:9490-1761156000-1761170400@cauim.org
SUMMARY:Miguel Nicolelis - Encontros com a Cidadania
DESCRIPTION:O Cauím terá a honra de receber Miguel Nicolelis no Encontros com a Cidadania. Reconhecido mundialmente como um dos maiores cientistas da atualidade\, ele é referência em neurociência\, inovação e conhecido pelo desenvolvimento do exoesqueleto controlado pelo cérebro\, que permitiu a um jovem paraplégico dar o pontapé inicial da Copa do Mundo de 2014.
URL:https://cauim.org/en/evento/miguel-nicolelis-encontros-com-a-cidadania/
LOCATION:Cineclube Cauim\, R. Olavo Bilac\, 135\, Vila Seixas\, Ribeirão Preto - SP\, São Paulo\, 14020-020\, Brasil
CATEGORIES:Encontros com a Cidadania
ATTACH;FMTTYPE=image/jpeg:https://cauim.org/wp-content/uploads/2025/09/WhatsApp-Image-2025-09-26-at-04.31.24.jpeg
END:VEVENT
BEGIN:VEVENT
DTSTART;TZID=America/Sao_Paulo:20251022T170000
DTEND;TZID=America/Sao_Paulo:20251022T170000
DTSTAMP:20260424T195728
CREATED:20251017T100812Z
LAST-MODIFIED:20251017T100812Z
UID:9900-1761152400-1761152400@cauim.org
SUMMARY:Cinema & Literatura – Sessão 17h
DESCRIPTION:• O Caso da Vara (2009) – Dir.: Liloye Boubli. Adaptação de Machado de Assis.
URL:https://cauim.org/en/evento/cinema-literatura-sessao-17h-3/
CATEGORIES:Cinema & Literatura
END:VEVENT
BEGIN:VEVENT
DTSTART;TZID=America/Sao_Paulo:20251021T183000
DTEND;TZID=America/Sao_Paulo:20251021T183000
DTSTAMP:20260424T195728
CREATED:20251017T100742Z
LAST-MODIFIED:20251017T100742Z
UID:9894-1761071400-1761071400@cauim.org
SUMMARY:Cinema & Cidadania – Sessão 18h30
DESCRIPTION:• Neguinho e Kika (2005) – Dir.: Luciano Vidigal. Primeiro amor e o desafio de se afastar do tráfico.
URL:https://cauim.org/en/evento/cinema-cidadania-sessao-18h30-2/
CATEGORIES:Cinema & Cidadania
END:VEVENT
BEGIN:VEVENT
DTSTART;TZID=America/Sao_Paulo:20251021T170000
DTEND;TZID=America/Sao_Paulo:20251021T170000
DTSTAMP:20260424T195728
CREATED:20251017T100757Z
LAST-MODIFIED:20251017T100757Z
UID:9899-1761066000-1761066000@cauim.org
SUMMARY:Cinema & Literatura – Sessão 17h
DESCRIPTION:• Teoria do Medalhão (2009) – Dir.: Mario Vieira da Silva. Baseado em conto de Machado de Assis.
URL:https://cauim.org/en/evento/cinema-literatura-sessao-17h-2/
CATEGORIES:Cinema & Literatura
END:VEVENT
BEGIN:VEVENT
DTSTART;TZID=America/Sao_Paulo:20251020T183000
DTEND;TZID=America/Sao_Paulo:20251020T183000
DTSTAMP:20260424T195728
CREATED:20251017T100742Z
LAST-MODIFIED:20251017T100742Z
UID:9893-1760985000-1760985000@cauim.org
SUMMARY:Cinema & Cidadania – Sessão 18h30
DESCRIPTION:• Couro de Gato (1960) – Dir.: Joaquim Pedro de Andrade. Sinopse: meninos roubam gatos para tamborins às vésperas do Carnaval.• Picolé\, Pintinho e Pipa (2007) – Dir.: Gustavo Melo. O carro do troca‑troca e a lição de que nada é de graça.
URL:https://cauim.org/en/evento/cinema-cidadania-sessao-18h30/
CATEGORIES:Cinema & Cidadania
END:VEVENT
BEGIN:VEVENT
DTSTART;TZID=America/Sao_Paulo:20251020T170000
DTEND;TZID=America/Sao_Paulo:20251020T170000
DTSTAMP:20260424T195728
CREATED:20251017T100757Z
LAST-MODIFIED:20251017T100757Z
UID:9898-1760979600-1760979600@cauim.org
SUMMARY:Cinema & Literatura – Sessão 17h
DESCRIPTION:• A João Guimarães Rosa (1968) – Dir.: Roberto Santos & Marcelo Tassara. Sertão de Minas e trechos de Grande Sertão: Veredas.• Rio-de-janeiro\, Minas (1991) – Dir.: Marily da Cunha Bezerra. Encontro entre Riobaldo e Diadorim.
URL:https://cauim.org/en/evento/cinema-literatura-sessao-17h/
CATEGORIES:Cinema & Literatura
END:VEVENT
BEGIN:VEVENT
DTSTART;TZID=America/Sao_Paulo:20251012T163000
DTEND;TZID=America/Sao_Paulo:20251012T163000
DTSTAMP:20260424T195728
CREATED:20251009T141007Z
LAST-MODIFIED:20251009T141007Z
UID:9820-1760286600-1760286600@cauim.org
SUMMARY:Science Film Festival – Sessão de Curtas
DESCRIPTION:Science Film Festival – Programação de curtas:\n– Casa dos Pequenos Cientistas – Folha de Lótus Hidrofóbica\n– Amor à Primeira Vista\n– A Menina e a Árvore\n– Super Cientistas – Origens\n– Você Acreditaria?\n– +Forte\n– Canela de Ema – O Mistério dos Muiraquitãs
URL:https://cauim.org/en/evento/science-film-festival-sessao-de-curtas-4/
CATEGORIES:Filmes
END:VEVENT
BEGIN:VEVENT
DTSTART;TZID=America/Sao_Paulo:20251012T160000
DTEND;TZID=America/Sao_Paulo:20251012T160000
DTSTAMP:20260424T195728
CREATED:20251003T215717Z
LAST-MODIFIED:20251003T215717Z
UID:9693-1760284800-1760284800@cauim.org
SUMMARY:Retratos do Brasil - Leila Para Sempre Diniz (1976) / Profeta Gentileza (2002)
DESCRIPTION:Leila Para Sempre Diniz (1976)\nProfeta Gentileza (2002)
URL:https://cauim.org/en/evento/retratos-do-brasil-leila-para-sempre-diniz-1976-profeta-gentileza-2002-2/
CATEGORIES:Retratos do Brasil
END:VEVENT
BEGIN:VEVENT
DTSTART;TZID=America/Sao_Paulo:20251012T143000
DTEND;TZID=America/Sao_Paulo:20251012T143000
DTSTAMP:20260424T195728
CREATED:20251009T141007Z
LAST-MODIFIED:20251009T141007Z
UID:9819-1760279400-1760279400@cauim.org
SUMMARY:Science Film Festival – Sessão de Curtas
DESCRIPTION:Science Film Festival – Programação de curtas:\n– Casa dos Pequenos Cientistas – Folha de Lótus Hidrofóbica\n– Amor à Primeira Vista\n– A Menina e a Árvore\n– Super Cientistas – Origens\n– Você Acreditaria?\n– +Forte\n– Canela de Ema – O Mistério dos Muiraquitãs
URL:https://cauim.org/en/evento/science-film-festival-sessao-de-curtas-3/
CATEGORIES:Filmes
END:VEVENT
END:VCALENDAR